Workbook
Name 财务部: 基本情况表!$A$2:$G$5
Name 财务部1: 基本情况表!$A$2:$G$5
Name 个税税率表: 个人所得税税率表!$C$2:$F$8
Name 工资表: 工资明细表!$A$2:$P$16
Name 工资调整: [1]工资调整!$A$3:$I$18
Name 加班记录: 加班记录!$A$2:$H$17
Name 加班记录汇总: 加班记录汇总!$A$1:$B$16
Name 年假规则: [1]年假规则表!$A$2:$B$14
Name 企划部: 基本情况表!$A$6:$G$9
Name 缺勤总扣款: 请假记录!$A$4:$J$18
Name 生产部: 基本情况表!$A$10:$G$12
Name 销售部: 基本情况表!$A$13:$G$16
Name 员工编号: 工资调整!$A$3:$I$18

Sheet 基本情况表
A1: 员工编号 | B1: 姓名 | C1: 性别 | D1: 入职时间 | E1: 所属部门 | F1: 职工类别 | G1: 基本工资 | H1: 工龄 | I1: 年假（天）
A2: 0003 | B2: 李芳 | C2: 女 | D2: 35224 | E2: 财务部 | F2: 部门经理 | G2: 3000 | H2: =YEAR(NOW())-YEAR(D2) -> 22 | I2: =VLOOKUP(H2,年假规则,2,1) -> 30 | K2: =YEAR(NOW())-YEAR(D2) -> 22
A3: 0006 | B3: 邹燕燕 | C3: 女 | D3: 38137 | E3: 财务部 | F3: 会计 | G3: 1800 | H3: =YEAR(NOW())-YEAR(D3) -> 14 | I3: =VLOOKUP(H3,年假规则,2,1) -> 30 | K3: =YEAR(NOW())-YEAR(D3) -> 14
A4: 0009 | B4: 邱秀丽 | C4: 女 | D4: 39668 | E4: 财务部 | F4: 预算员 | G4: 3000 | H4: =YEAR(NOW())-YEAR(D4) -> 10 | I4: =VLOOKUP(H4,年假规则,2,1) -> 30 | K4: =YEAR(NOW())-YEAR(D4) -> 10
A5: 0010 | B5: 王心萍 | C5: 女 | D5: 36683 | E5: 财务部 | F5: 出纳 | G5: 2000 | H5: =YEAR(NOW())-YEAR(D5) -> 18 | I5: =VLOOKUP(H5,年假规则,2,1) -> 30
A6: 0001 | B6: 王晓东 | C6: 男 | D6: 36530 | E6: 企划部 | F6: 广告策划 | G6: 2000 | H6: =YEAR(NOW())-YEAR(D6) -> 18 | I6: =VLOOKUP(H6,年假规则,2,1) -> 30
A7: 0002 | B7: 马一鸣 | C7: 男 | D7: 36800 | E7: 企划部 | F7: 广告策划 | G7: 1500 | H7: =YEAR(NOW())-YEAR(D7) -> 18 | I7: =VLOOKUP(H7,年假规则,2,1) -> 30
A8: 0011 | B8: 宋辉 | C8: 女 | D8: 35494 | E8: 企划部 | F8: 部门经理 | G8: 1500 | H8: =YEAR(NOW())-YEAR(D8) -> 21 | I8: =VLOOKUP(H8,年假规则,2,1) -> 30
A9: 0014 | B9: 齐敏 | C9: 男 | D9: 38594 | E9: 企划部 | F9: 广告策划 | G9: 1800 | H9: =YEAR(NOW())-YEAR(D9) -> 13 | I9: =VLOOKUP(H9,年假规则,2,1) -> 30
A10: 0005 | B10: 潘涛 | C10: 男 | D10: 35784 | E10: 生产部 | F10: 部门经理 | G10: 2500 | H10: =YEAR(NOW())-YEAR(D10) -> 21 | I10: =VLOOKUP(H10,年假规则,2,1) -> 30
A11: 0007 | B11: 孙晓凡 | C11: 女 | D11: 37810 | E11: 生产部 | F11: 技术员 | G11: 1500 | H11: =YEAR(NOW())-YEAR(D11) -> 15 | I11: =VLOOKUP(H11,年假规则,2,1) -> 30
A12: 0015 | B12: 耿小龙 | C12: 男 | D12: 38718 | E12: 生产部 | F12: 技术工人 | G12: 1000 | H12: =YEAR(NOW())-YEAR(D12) -> 12 | I12: =VLOOKUP(H12,年假规则,2,1) -> 30
A13: 0004 | B13: 任可 | C13: 女 | D13: 37016 | E13: 销售部 | F13: 业务员 | G13: 1000 | H13: =YEAR(NOW())-YEAR(D13) -> 17 | I13: =VLOOKUP(H13,年假规则,2,1) -> 30
A14: 0008 | B14: 赵文彬 | C14: 男 | D14: 37509 | E14: 销售部 | F14: 业务员 | G14: 1000 | H14: =YEAR(NOW())-YEAR(D14) -> 16 | I14: =VLOOKUP(H14,年假规则,2,1) -> 30
A15: 0012 | B15: 高明 | C15: 男 | D15: 34700 | E15: 销售部 | F15: 部门经理 | G15: 3500 | H15: =YEAR(NOW())-YEAR(D15) -> 23 | I15: =VLOOKUP(H15,年假规则,2,1) -> 30
A16: 0013 | B16: 张瑞峰 | C16: 男 | D16: 36524 | E16: 销售部 | F16: 业务员 | G16: 1000 | H16: =YEAR(NOW())-YEAR(D16) -> 19 | I16: =VLOOKUP(H16,年假规则,2,1) -> 30

Sheet 部门统计
A1: A B C 公 司
A2: 部门人员统计表
A3: 统计日期 | B3: 43160
A4: 部门 | B4: 性别 | C4: 人数 | D4: 共计
A5: 财务部 | B5: 男 | C5: =COUNTIF(财务部,"男") -> 0 | D5: =COUNTIF(基本情况表!E2:E16,"财务部") -> 4
B6: 女 | C6: =COUNTIF(财务部,"女") -> 4
A7: 企划部 | B7: 男 | C7: =COUNTIF(企划部,B7) -> 3
B8: 女 | C8: =COUNTIF(企划部,B8) -> 1
A9: 生产部 | B9: 男 | C9: =COUNTIF(生产部,B9) -> 2
B10: 女 | C10: =COUNTIF(生产部,B10) -> 1
A11: 销售部 | B11: 男
B12: 女
A13: 合计

Sheet 年假规则表
A1: 年假规则表
A2: 工龄 | B2: 年假（天）
A3: 0 | B3: 0
A4: 1 | B4: 15
A5: 2 | B5: 16
A6: 3 | B6: 17
A7: 4 | B7: 18
A8: 5 | B8: 19
A9: 6 | B9: 20
A10: 7 | B10: 20
A11: 8 | B11: 20
A12: 9 | B12: 20
A13: 10 | B13: 30
A14: 11 | B14: 30

Sheet 工资调整
A1: A B C 公 司
A2: 工资调整表
A3: 员工编号 | B3: 姓名 | C3: 性别 | D3: 入职时间 | E3: 所属部门 | F3: 职工类别 | G3: 调整年 | H3: 调整月 | I3: 调整工资
A4: 0001 | B4: 王晓东 | C4: 男 | D4: 36530 | E4: 企划部 | F4: 广告策划 | G4: 2002 | H4: 12 | I4: 4000
A5: 0002 | B5: 马一鸣 | C5: 男 | D5: 36800 | E5: 企划部 | F5: 广告策划 | G5: 2003 | H5: 6 | I5: 4000
A6: 0003 | B6: 李芳 | C6: 女 | D6: 35224 | E6: 财务部 | F6: 部门经理 | G6: 2006 | H6: 1 | I6: 5000
A7: 0004 | B7: 任可 | C7: 女 | D7: 37016 | E7: 销售部 | F7: 业务员 | G7: 2005 | H7: 1 | I7: 3000
A8: 0005 | B8: 潘涛 | C8: 男 | D8: 35784 | E8: 生产部 | F8: 部门经理 | G8: 2002 | H8: 12 | I8: 4500
A9: 0006 | B9: 邹燕燕 | C9: 女 | D9: 38137 | E9: 财务部 | F9: 会计 | G9: 2003 | H9: 6 | I9: 3800
A10: 0007 | B10: 孙晓凡 | C10: 女 | D10: 37810 | E10: 生产部 | F10: 技术员 | G10: 2006 | H10: 4 | I10: 3500
A11: 0008 | B11: 赵文彬 | C11: 男 | D11: 37509 | E11: 销售部 | F11: 业务员 | G11: 2006 | H11: 1 | I11: 3000
A12: 0009 | B12: 邱秀丽 | C12: 女 | D12: 39668 | E12: 财务部 | F12: 预算员 | G12: 2005 | H12: 5 | I12: 5000
A13: 0010 | B13: 王心萍 | C13: 女 | D13: 36683 | E13: 财务部 | F13: 出纳 | G13: 2005 | H13: 5 | I13: 4000
A14: 0011 | B14: 宋辉 | C14: 女 | D14: 35494 | E14: 企划部 | F14: 部门经理 | G14: 2005 | H14: 5 | I14: 3500
A15: 0012 | B15: 高明 | C15: 男 | D15: 34700 | E15: 销售部 | F15: 部门经理 | G15: 2005 | H15: 5 | I15: 5500
... A18: 0015 | B18: 耿小龙 | C18: 男 | D18: 38718 | E18: 生产部 | F18: 技术工人 | G18: 2006 | H18: 4 | I18: 3000

Sheet Sheet2
A3: 行标签 | B3: 求和项:加班费
A4: 1 | B4: 80
A5: 2 | B5: 40
A6: 3 | B6: 80
A7: 4 | B7: 80
A8: 5 | B8: 40
A9: 6 | B9: 80
A10: 7 | B10: 40
A11: 8 | B11: 80
A12: 9 | B12: 40
A13: 10 | B13: 40
A14: 11 | B14: 80
A15: 12 | B15: 40
... A18: 15 | B18: 40
A19: 总计 | B19: 840

Sheet Sheet1
A3: 行标签 | B3: 求和项:加班费
A4: 1 | B4: 80
A5: 2 | B5: 40
A6: 3 | B6: 80
A7: 4 | B7: 80
A8: 5 | B8: 40
A9: 6 | B9: 80
A10: 7 | B10: 40
A11: 8 | B11: 80
A12: 9 | B12: 40
A13: 10 | B13: 40
A14: 11 | B14: 80
A15: 12 | B15: 40
... A18: 15 | B18: 40
A19: 总计 | B19: 840

Sheet 加班记录
A1: 员工编号 | B1: 姓名 | C1: 性别 | D1: 所属部门 | E1: 职工类别 | F1: 日期 | G1: 开始时间 | H1: 结束时间 | I1: 加班费
A2: 1 | B2: 王晓东 | C2: 男 | D2: 企划部 | E2: 广告策划 | F2: 5日 | G2: 0.70833333 | H2: 0.72916667 | I2: =IF(HOUR(H2-G2)<=2,40,80) -> 40
A3: 1 | B3: 王晓东 | C3: 男 | D3: 企划部 | E3: 广告策划 | F3: 6日 | G3: 0.70833333 | H3: 0.72916667 | I3: =IF(HOUR(H3-G3)<=2,40,80) -> 40
A4: 2 | B4: 马一鸣 | C4: 男 | D4: 企划部 | E4: 广告策划 | F4: 5日 | G4: 0.70833333 | H4: 0.72916667 | I4: =IF(HOUR(H4-G4)<=2,40,80) -> 40
A5: 3 | B5: 李芳 | C5: 女 | D5: 财务部 | E5: 部门经理 | F5: 20日 | G5: 0.33333333 | H5: 0.45833333 | I5: =IF(HOUR(H5-G5)<=2,40,80) -> 80
A6: 4 | B6: 任可 | C6: 女 | D6: 销售部 | E6: 业务员 | F6: 25日 | G6: 0.70833333 | H6: 0.85416667 | I6: =IF(HOUR(H6-G6)<=2,40,80) -> 80
A7: 5 | B7: 潘涛 | C7: 男 | D7: 生产部 | E7: 部门经理 | F7: 18日 | G7: 0.52083333 | H7: 0.5625 | I7: =IF(HOUR(H7-G7)<=2,40,80) -> 40
A8: 6 | B8: 邹燕燕 | C8: 女 | D8: 财务部 | E8: 会计 | F8: 20日 | G8: 0.72916667 | H8: 0.875 | I8: =IF(HOUR(H8-G8)<=2,40,80) -> 80
A9: 7 | B9: 孙晓凡 | C9: 女 | D9: 生产部 | E9: 技术员 | F9: 8日 | G9: 0.5 | H9: 0.5625 | I9: =IF(HOUR(H9-G9)<=2,40,80) -> 40
A10: 8 | B10: 赵文彬 | C10: 男 | D10: 销售部 | E10: 业务员 | F10: 24日 | G10: 0.70833333 | H10: 0.875 | I10: =IF(HOUR(H10-G10)<=2,40,80) -> 80
A11: 9 | B11: 邱秀丽 | C11: 女 | D11: 财务部 | E11: 预算员 | F11: 10日 | G11: 0.5 | H11: 0.5625 | I11: =IF(HOUR(H11-G11)<=2,40,80) -> 40
A12: 10 | B12: 王心萍 | C12: 女 | D12: 财务部 | E12: 出纳 | F12: 21日 | G12: 0.70833333 | H12: 0.72916667 | I12: =IF(HOUR(H12-G12)<=2,40,80) -> 40
A13: 11 | B13: 宋辉 | C13: 女 | D13: 企划部 | E13: 部门经理 | F13: 6日 | G13: 0.33333333 | H13: 0.45833333 | I13: =IF(HOUR(H13-G13)<=2,40,80) -> 80
... A17: 15 | B17: 耿小龙 | C17: 男 | D17: 生产部 | E17: 技术工人 | F17: 7日 | G17: 0.52083333 | H17: 0.5625 | I17: =IF(HOUR(H17-G17)<=2,40,80) -> 40

Sheet 加班记录汇总
A1: 员工编号 | B1: 加班费
A2: 0001 | B2: 80
A3: 0002 | B3: 40
A4: 0003 | B4: 80
A5: 0004 | B5: 80
A6: 0005 | B6: 40
A7: 0006 | B7: 80
A8: 0007 | B8: 40
A9: 0008 | B9: 80
A10: 0009 | B10: 40
A11: 0010 | B11: 40
A12: 0011 | B12: 80
A13: 0012 | B13: 40
... A16: 0015 | B16: 40

Sheet 请假记录
A1: A B C 公 司
A2: 请假记录表（2018年4月）
A3: 员工编号 | B3: 姓名 | C3: 所属部门 | D3: 病假 | E3: 事假 | F3: 迟到 | G3: 病假扣款 | H3: 事假扣款 | I3: 迟到扣款 | J3: 缺勤总扣款 | K3: 出勤奖金
A4: 0001 | B4: 王晓东 | C4: 企划部 | D4: 1 | E4: 0 | F4: 0 | G4: =ROUND(工资明细表!E2/30*D4/2,0) -> 67 | H4: =ROUND(工资明细表!E2/30*E4,0) -> 0 | I4: =ROUND(IF(F4>15,工资明细表!E2/30/2,IF(F4=0,0,10)),0) -> 0 | J4: =SUM(G4:I4) -> 67 | K4: =IF(IF(D4+E4<=2,0,1)+IF(F4<=30,0,1)=0,200,0) -> 200
A5: 0002 | B5: 马一鸣 | C5: 企划部 | D5: 0 | E5: 0 | F5: 0 | G5: =ROUND(工资明细表!E3/30*D5/2,0) -> 0 | H5: =ROUND(工资明细表!E3/30*E5,0) -> 0 | I5: =ROUND(IF(F5>15,工资明细表!E3/30/2,IF(F5=0,0,10)),0) -> 0 | J5: =SUM(G5:I5) -> 0 | K5: =IF(IF(D5+E5<=2,0,1)+IF(F5<=30,0,1)=0,200,0) -> 200
A6: 0003 | B6: 李芳 | C6: 财务部 | D6: 0 | E6: 0 | F6: 20 | G6: =ROUND(工资明细表!E4/30*D6/2,0) -> 0 | H6: =ROUND(工资明细表!E4/30*E6,0) -> 0 | I6: =ROUND(IF(F6>15,工资明细表!E4/30/2,IF(F6=0,0,10)),0) -> 63 | J6: =SUM(G6:I6) -> 63 | K6: =IF(IF(D6+E6<=2,0,1)+IF(F6<=30,0,1)=0,200,0) -> 200
A7: 0004 | B7: 任可 | C7: 销售部 | D7: 0 | E7: 2 | F7: 0 | G7: =ROUND(工资明细表!E5/30*D7/2,0) -> 0 | H7: =ROUND(工资明细表!E5/30*E7,0) -> 333 | I7: =ROUND(IF(F7>15,工资明细表!E5/30/2,IF(F7=0,0,10)),0) -> 0 | J7: =SUM(G7:I7) -> 333 | K7: =IF(IF(D7+E7<=2,0,1)+IF(F7<=30,0,1)=0,200,0) -> 200
A8: 0005 | B8: 潘涛 | C8: 生产部 | D8: 0 | E8: 0 | F8: 0 | G8: =ROUND(工资明细表!E6/30*D8/2,0) -> 0 | H8: =ROUND(工资明细表!E6/30*E8,0) -> 0 | I8: =ROUND(IF(F8>15,工资明细表!E6/30/2,IF(F8=0,0,10)),0) -> 0 | J8: =SUM(G8:I8) -> 0 | K8: =IF(IF(D8+E8<=2,0,1)+IF(F8<=30,0,1)=0,200,0) -> 200
A9: 0006 | B9: 邹燕燕 | C9: 财务部 | D9: 2 | E9: 0 | F9: 0 | G9: =ROUND(工资明细表!E7/30*D9/2,0) -> 133 | H9: =ROUND(工资明细表!E7/30*E9,0) -> 0 | I9: =ROUND(IF(F9>15,工资明细表!E7/30/2,IF(F9=0,0,10)),0) -> 0 | J9: =SUM(G9:I9) -> 133 | K9: =IF(IF(D9+E9<=2,0,1)+IF(F9<=30,0,1)=0,200,0) -> 200
A10: 0007 | B10: 孙晓凡 | C10: 生产部 | D10: 0 | E10: 1 | F10: 0 | G10: =ROUND(工资明细表!E8/30*D10/2,0) -> 0 | H10: =ROUND(工资明细表!E8/30*E10,0) -> 117 | I10: =ROUND(IF(F10>15,工资明细表!E8/30/2,IF(F10=0,0,10)),0) -> 0 | J10: =SUM(G10:I10) -> 117 | K10: =IF(IF(D10+E10<=2,0,1)+IF(F10<=30,0,1)=0,200,0) -> 200
A11: 0008 | B11: 赵文彬 | C11: 销售部 | D11: 0 | E11: 0 | F11: 30 | G11: =ROUND(工资明细表!E9/30*D11/2,0) -> 0 | H11: =ROUND(工资明细表!E9/30*E11,0) -> 0 | I11: =ROUND(IF(F11>15,工资明细表!E9/30/2,IF(F11=0,0,10)),0) -> 63 | J11: =SUM(G11:I11) -> 63 | K11: =IF(IF(D11+E11<=2,0,1)+IF(F11<=30,0,1)=0,200,0) -> 200
A12: 0009 | B12: 邱秀丽 | C12: 财务部 | D12: 0 | E12: 0 | F12: 0 | G12: =ROUND(工资明细表!E10/30*D12/2,0) -> 0 | H12: =ROUND(工资明细表!E10/30*E12,0) -> 0 | I12: =ROUND(IF(F12>15,工资明细表!E10/30/2,IF(F12=0,0,10)),0) -> 0 | J12: =SUM(G12:I12) -> 0 | K12: =IF(IF(D12+E12<=2,0,1)+IF(F12<=30,0,1)=0,200,0) -> 200
A13: 0010 | B13: 王心萍 | C13: 财务部 | D13: 3 | E13: 0 | F13: 0 | G13: =ROUND(工资明细表!E11/30*D13/2,0) -> 175 | H13: =ROUND(工资明细表!E11/30*E13,0) -> 0 | I13: =ROUND(IF(F13>15,工资明细表!E11/30/2,IF(F13=0,0,10)),0) -> 0 | J13: =SUM(G13:I13) -> 175 | K13: =IF(IF(D13+E13<=2,0,1)+IF(F13<=30,0,1)=0,200,0) -> 0
A14: 0011 | B14: 宋辉 | C14: 企划部 | D14: 0 | E14: 1 | F14: 0 | G14: =ROUND(工资明细表!E12/30*D14/2,0) -> 0 | H14: =ROUND(工资明细表!E12/30*E14,0) -> 100 | I14: =ROUND(IF(F14>15,工资明细表!E12/30/2,IF(F14=0,0,10)),0) -> 0 | J14: =SUM(G14:I14) -> 100 | K14: =IF(IF(D14+E14<=2,0,1)+IF(F14<=30,0,1)=0,200,0) -> 200
A15: 0012 | B15: 高明 | C15: 销售部 | D15: 0 | E15: 0 | F15: =VLOOKUP(E15,[2]年假规则!$A$1:$B$12,2,1) -> 0 | G15: =ROUND(工资明细表!E13/30*D15/2,0) -> 0 | H15: =ROUND(工资明细表!E13/30*E15,0) -> 0 | I15: =ROUND(IF(F15>15,工资明细表!E13/30/2,IF(F15=0,0,10)),0) -> 0 | J15: =SUM(G15:I15) -> 0 | K15: =IF(IF(D15+E15<=2,0,1)+IF(F15<=30,0,1)=0,200,0) -> 200
A16: 0013 | B16: 张瑞峰 | C16: 销售部 | D16: 0 | E16: 0 | F16: 10 | G16: =ROUND(工资明细表!E14/30*D16/2,0) -> 0 | H16: =ROUND(工资明细表!E14/30*E16,0) -> 0 | I16: =ROUND(IF(F16>15,工资明细表!E14/30/2,IF(F16=0,0,10)),0) -> 10 | J16: =SUM(G16:I16) -> 10 | K16: =IF(IF(D16+E16<=2,0,1)+IF(F16<=30,0,1)=0,200,0) -> 200
A17: 0014 | B17: 齐敏 | C17: 企划部 | D17: 0 | E17: 0 | F17: 0 | G17: =ROUND(工资明细表!E15/30*D17/2,0) -> 0 | H17: =ROUND(工资明细表!E15/30*E17,0) -> 0 | I17: =ROUND(IF(F17>15,工资明细表!E15/30/2,IF(F17=0,0,10)),0) -> 0 | J17: =SUM(G17:I17) -> 0 | K17: =IF(IF(D17+E17<=2,0,1)+IF(F17<=30,0,1)=0,200,0) -> 200
A18: 0015 | B18: 耿小龙 | C18: 生产部 | D18: 0 | E18: 1 | F18: 0 | G18: =ROUND(工资明细表!E16/30*D18/2,0) -> 0 | H18: =ROUND(工资明细表!E16/30*E18,0) -> 100 | I18: =ROUND(IF(F18>15,工资明细表!E16/30/2,IF(F18=0,0,10)),0) -> 0 | J18: =SUM(G18:I18) -> 100 | K18: =IF(IF(D18+E18<=2,0,1)+IF(F18<=30,0,1)=0,200,0) -> 200

Sheet 个人所得税税率表
A1: 级数 | B1: 说明 | C1: 下限 | D1: 上限 | E1: 税率(%) | F1: 速算扣除数
A2: 1 | B2: 不超过1500元的 | C2: 0 | D2: 3000 | E2: 0.03 | F2: 0
A3: 2 | B3: 超过1500元至4500元的部分 | C3: 3000 | D3: 12000 | E3: 0.1 | F3: 210
A4: 3 | B4: 超过4500元至9000元的部分 | C4: 12000 | D4: 25000 | E4: 0.2 | F4: 1410
A5: 4 | B5: 超过9000元至35000元的部分 | C5: 25000 | D5: 35000 | E5: 0.25 | F5: 2660
A6: 5 | B6: 超过35000元至55000元的部分 | C6: 35000 | D6: 55000 | E6: 0.3 | F6: 4410
A7: 6 | B7: 超过55000元至80000元的部分 | C7: 55000 | D7: 80000 | E7: 0.35 | F7: 7160
A8: 7 | B8: 超过80000元的部分 | C8: 80000 | D8: 800000 | E8: 0.45 | F8: 15160

Sheet 透视表
A1: 求和项:实发工资 | B1: 列标签
A2: 行标签 | B2: 财务部 | C2: 企划部 | D2: 生产部 | E2: 销售部 | F2: 总计
A3: 部门经理 | B3: 4150.5402 | C3: 2935.14 | D3: 3782.076 | E3: 4561.374 | F3: 15429.13
A4: 出纳 | B4: 3229.2 | F4: 3229.2
A5: 广告策划 | C5: 10118.94 | F5: 10118.94
A6: 会计 | B6: 3200.34 | F6: 3200.34
A7: 技术工人 | D7: 2566.2 | F7: 2566.2
A8: 技术员 | D8: 2919.54 | F8: 2919.54
A9: 业务员 | E9: 7987.2 | F9: 7987.2
A10: 预算员 | B10: 4160.376 | F10: 4160.376
A11: 总计 | B11: 14740.456 | C11: 13054.08 | D11: 9267.816 | E11: 12548.574 | F11: 49610.926

Sheet Sheet3
A3: 求和项:基本工资 | B3: 列标签
A4: 行标签 | B4: 部门经理 | C4: 出纳 | D4: 广告策划 | E4: 会计 | F4: 技术工人 | G4: 技术员 | H4: 业务员 | I4: 预算员 | J4: 总计
A5: 0001 | D5: 4000 | J5: 4000
A6: 0002 | D6: 4000 | J6: 4000
A7: 0003 | B7: 5000 | J7: 5000
A8: 0004 | H8: 3000 | J8: 3000
A9: 0005 | B9: 4500 | J9: 4500
A10: 0006 | E10: 3800 | J10: 3800
A11: 0007 | G11: 3500 | J11: 3500
A12: 0008 | H12: 3000 | J12: 3000
A13: 0009 | I13: 5000 | J13: 5000
A14: 0010 | C14: 4000 | J14: 4000
A15: 0011 | B15: 3500 | J15: 3500
A16: 0012 | B16: 5500 | J16: 5500
A17: 0013 | H17: 3000 | J17: 3000
A18: 0014 | D18: 3800 | J18: 3800
A19: 0015 | F19: 3000 | J19: 3000
A20: 总计 | B20: 18500 | C20: 4000 | D20: 11800 | E20: 3800 | F20: 3000 | G20: 3500 | H20: 9000 | I20: 5000 | J20: 58600

Sheet 工资明细表
A1: 员工编号 | B1: 姓名 | C1: 所属部门 | D1: 职工类别 | E1: 基本工资 | F1: 奖金 | G1: 补贴 | H1: 加班费 | I1: 缺勤扣款 | J1: 应发工资 | K1: 养老保险 | L1: 医疗保险 | M1: 住房公积金 | N1: 应税工资 | O1: 所得税 | P1: 实发工资
A2: 0001 | B2: 王晓东 | C2: 财务部 | D2: 广告策划 | E2: =VLOOKUP(A2,工资调整,9,1) -> 4000 | F2: =请假记录!K4 -> 200 | G2: 100 | H2: =VLOOKUP(A2,加班记录汇总,2,1) -> 80 | I2: =VLOOKUP(A2,缺勤总扣款,10,1) -> 67 | J2: =SUM(E2:H2)-I2 -> 4313 | K2: =J2*8% -> 345.04 | L2: =J2*2% -> 86.26 | M2: =J2*12% -> 517.56 | N2: =J2-K2-L2-M2 -> 3364.14 | O2: =IF(N2-3500<=0,0,(N2-3500)*VLOOKUP(N2-3500,个税税率表,3,1)-VLOOKUP(N2-3500,个税税率表,4,1)) -> 0 | P2: =N2-O2 -> 3364.14
A3: 0003 | B3: 李芳 | C3: 财务部 | D3: 部门经理 | E3: =VLOOKUP(A3,工资调整,9,1) -> 5000 | F3: =请假记录!K6 -> 200 | G3: 150 | H3: =VLOOKUP(A3,加班记录汇总,2,1) -> 80 | I3: =VLOOKUP(A3,缺勤总扣款,10,1) -> 63 | J3: =SUM(E3:H3)-I3 -> 5367 | K3: =J3*8% -> 429.36 | L3: =J3*2% -> 107.34 | M3: =J3*12% -> 644.04 | N3: =J3-K3-L3-M3 -> 4186.26 | O3: =IF(N3-3500<=0,0,(N3-3500)*VLOOKUP(N3-3500,个税税率表,3,1)-VLOOKUP(N3-3500,个税税率表,4,1)) -> 20.5878 | P3: =N3-O3 -> 4165.6722
A4: 0006 | B4: 邹燕燕 | C4: 财务部 | D4: 会计 | E4: =VLOOKUP(A4,工资调整,9,1) -> 3800 | F4: =请假记录!K9 -> 200 | G4: 150 | H4: =VLOOKUP(A4,加班记录汇总,2,1) -> 80 | I4: =VLOOKUP(A4,缺勤总扣款,10,1) -> 133 | J4: =SUM(E4:H4)-I4 -> 4097 | K4: =J4*8% -> 327.76 | L4: =J4*2% -> 81.94 | M4: =J4*12% -> 491.64 | N4: =J4-K4-L4-M4 -> 3195.66 | O4: =IF(N4-3500<=0,0,(N4-3500)*VLOOKUP(N4-3500,个税税率表,3,1)-VLOOKUP(N4-3500,个税税率表,4,1)) -> 0 | P4: =N4-O4 -> 3195.66
A5: 0009 | B5: 邱秀丽 | C5: 财务部 | D5: 预算员 | E5: =VLOOKUP(A5,工资调整,9,1) -> 5000 | F5: =请假记录!K12 -> 200 | G5: 120 | H5: =VLOOKUP(A5,加班记录汇总,2,1) -> 40 | I5: =VLOOKUP(A5,缺勤总扣款,10,1) -> 0 | J5: =SUM(E5:H5)-I5 -> 5360 | K5: =J5*8% -> 428.8 | L5: =J5*2% -> 107.2 | M5: =J5*12% -> 643.2 | N5: =J5-K5-L5-M5 -> 4180.8 | O5: =IF(N5-3500<=0,0,(N5-3500)*VLOOKUP(N5-3500,个税税率表,3,1)-VLOOKUP(N5-3500,个税税率表,4,1)) -> 20.424 | P5: =N5-O5 -> 4160.376
A6: 0010 | B6: 王心萍 | C6: 财务部 | D6: 出纳 | E6: =VLOOKUP(A6,工资调整,9,1) -> 4000 | F6: =请假记录!K13 -> 0 | G6: 300 | H6: =VLOOKUP(A6,加班记录汇总,2,1) -> 40 | I6: =VLOOKUP(A6,缺勤总扣款,10,1) -> 175 | J6: =SUM(E6:H6)-I6 -> 4165 | K6: =J6*8% -> 333.2 | L6: =J6*2% -> 83.3 | M6: =J6*12% -> 499.8 | N6: =J6-K6-L6-M6 -> 3248.7 | O6: =IF(N6-3500<=0,0,(N6-3500)*VLOOKUP(N6-3500,个税税率表,3,1)-VLOOKUP(N6-3500,个税税率表,4,1)) -> 0 | P6: =N6-O6 -> 3248.7
A7: 0002 | B7: 马一鸣 | C7: 企划部 | D7: 广告策划 | E7: =VLOOKUP(A7,工资调整,9,1) -> 4000 | F7: =请假记录!K5 -> 200 | G7: 120 | H7: =VLOOKUP(A7,加班记录汇总,2,1) -> 40 | I7: =VLOOKUP(A7,缺勤总扣款,10,1) -> 0 | J7: =SUM(E7:H7)-I7 -> 4360 | K7: =J7*8% -> 348.8 | L7: =J7*2% -> 87.2 | M7: =J7*12% -> 523.2 | N7: =J7-K7-L7-M7 -> 3400.8 | O7: =IF(N7-3500<=0,0,(N7-3500)*VLOOKUP(N7-3500,个税税率表,3,1)-VLOOKUP(N7-3500,个税税率表,4,1)) -> 0 | P7: =N7-O7 -> 3400.8
A8: 0011 | B8: 宋辉 | C8: 企划部 | D8: 部门经理 | E8: =VLOOKUP(A8,工资调整,9,1) -> 3500 | F8: =请假记录!K14 -> 200 | G8: 100 | H8: =VLOOKUP(A8,加班记录汇总,2,1) -> 80 | I8: =VLOOKUP(A8,缺勤总扣款,10,1) -> 100 | J8: =SUM(E8:H8)-I8 -> 3780 | K8: =J8*8% -> 302.4 | L8: =J8*2% -> 75.6 | M8: =J8*12% -> 453.6 | N8: =J8-K8-L8-M8 -> 2948.4 | O8: =IF(N8-3500<=0,0,(N8-3500)*VLOOKUP(N8-3500,个税税率表,3,1)-VLOOKUP(N8-3500,个税税率表,4,1)) -> 0 | P8: =N8-O8 -> 2948.4
A9: 0014 | B9: 齐敏 | C9: 企划部 | D9: 广告策划 | E9: =VLOOKUP(A9,工资调整,9,1) -> 3800 | F9: =请假记录!K17 -> 200 | G9: 300 | H9: =VLOOKUP(A9,加班记录汇总,2,1) -> 40 | I9: =VLOOKUP(A9,缺勤总扣款,10,1) -> 0 | J9: =SUM(E9:H9)-I9 -> 4340 | K9: =J9*8% -> 347.2 | L9: =J9*2% -> 86.8 | M9: =J9*12% -> 520.8 | N9: =J9-K9-L9-M9 -> 3385.2 | O9: =IF(N9-3500<=0,0,(N9-3500)*VLOOKUP(N9-3500,个税税率表,3,1)-VLOOKUP(N9-3500,个税税率表,4,1)) -> 0 | P9: =N9-O9 -> 3385.2
A10: 0005 | B10: 潘涛 | C10: 生产部 | D10: 部门经理 | E10: =VLOOKUP(A10,工资调整,9,1) -> 4500 | F10: =请假记录!K8 -> 200 | G10: 120 | H10: =VLOOKUP(A10,加班记录汇总,2,1) -> 40 | I10: =VLOOKUP(A10,缺勤总扣款,10,1) -> 0 | J10: =SUM(E10:H10)-I10 -> 4860 | K10: =J10*8% -> 388.8 | L10: =J10*2% -> 97.2 | M10: =J10*12% -> 583.2 | N10: =J10-K10-L10-M10 -> 3790.8 | O10: =IF(N10-3500<=0,0,(N10-3500)*VLOOKUP(N10-3500,个税税率表,3,1)-VLOOKUP(N10-3500,个税税率表,4,1)) -> 8.724 | P10: =N10-O10 -> 3782.076
A11: 0007 | B11: 孙晓凡 | C11: 生产部 | D11: 技术员 | E11: =VLOOKUP(A11,工资调整,9,1) -> 3500 | F11: =请假记录!K10 -> 200 | G11: 120 | H11: =VLOOKUP(A11,加班记录汇总,2,1) -> 40 | I11: =VLOOKUP(A11,缺勤总扣款,10,1) -> 117 | J11: =SUM(E11:H11)-I11 -> 3743 | K11: =J11*8% -> 299.44 | L11: =J11*2% -> 74.86 | M11: =J11*12% -> 449.16 | N11: =J11-K11-L11-M11 -> 2919.54 | O11: =IF(N11-3500<=0,0,(N11-3500)*VLOOKUP(N11-3500,个税税率表,3,1)-VLOOKUP(N11-3500,个税税率表,4,1)) -> 0 | P11: =N11-O11 -> 2919.54
A12: 0015 | B12: 耿小龙 | C12: 生产部 | D12: 技术工人 | E12: =VLOOKUP(A12,工资调整,9,1) -> 3000 | F12: =请假记录!K18 -> 200 | G12: 150 | H12: =VLOOKUP(A12,加班记录汇总,2,1) -> 40 | I12: =VLOOKUP(A12,缺勤总扣款,10,1) -> 100 | J12: =SUM(E12:H12)-I12 -> 3290 | K12: =J12*8% -> 263.2 | L12: =J12*2% -> 65.8 | M12: =J12*12% -> 394.8 | N12: =J12-K12-L12-M12 -> 2566.2 | O12: =IF(N12-3500<=0,0,(N12-3500)*VLOOKUP(N12-3500,个税税率表,3,1)-VLOOKUP(N12-3500,个税税率表,4,1)) -> 0 | P12: =N12-O12 -> 2566.2
A13: 0004 | B13: 任可 | C13: 销售部 | D13: 业务员 | E13: =VLOOKUP(A13,工资调整,9,1) -> 3000 | F13: =请假记录!K7 -> 200 | G13: 300 | H13: =VLOOKUP(A13,加班记录汇总,2,1) -> 80 | I13: =VLOOKUP(A13,缺勤总扣款,10,1) -> 333 | J13: =SUM(E13:H13)-I13 -> 3247 | K13: =J13*8% -> 259.76 | L13: =J13*2% -> 64.94 | M13: =J13*12% -> 389.64 | N13: =J13-K13-L13-M13 -> 2532.66 | O13: =IF(N13-3500<=0,0,(N13-3500)*VLOOKUP(N13-3500,个税税率表,3,1)-VLOOKUP(N13-3500,个税税率表,4,1)) -> 0 | P13: =N13-O13 -> 2532.66
A14: 0008 | B14: 赵文彬 | C14: 销售部 | D14: 业务员 | E14: =VLOOKUP(A14,工资调整,9,1) -> 3000 | F14: =请假记录!K11 -> 200 | G14: 300 | H14: =VLOOKUP(A14,加班记录汇总,2,1) -> 80 | I14: =VLOOKUP(A14,缺勤总扣款,10,1) -> 63 | J14: =SUM(E14:H14)-I14 -> 3517 | K14: =J14*8% -> 281.36 | L14: =J14*2% -> 70.34 | M14: =J14*12% -> 422.04 | N14: =J14-K14-L14-M14 -> 2743.26 | O14: =IF(N14-3500<=0,0,(N14-3500)*VLOOKUP(N14-3500,个税税率表,3,1)-VLOOKUP(N14-3500,个税税率表,4,1)) -> 0 | P14: =N14-O14 -> 2743.26
A15: 0012 | B15: 高明 | C15: 销售部 | D15: 部门经理 | E15: =VLOOKUP(A15,工资调整,9,1) -> 5500 | F15: =请假记录!K15 -> 200 | G15: 150 | H15: =VLOOKUP(A15,加班记录汇总,2,1) -> 40 | I15: =VLOOKUP(A15,缺勤总扣款,10,1) -> 0 | J15: =SUM(E15:H15)-I15 -> 5890 | K15: =J15*8% -> 471.2 | L15: =J15*2% -> 117.8 | M15: =J15*12% -> 706.8 | N15: =J15-K15-L15-M15 -> 4594.2 | O15: =IF(N15-3500<=0,0,(N15-3500)*VLOOKUP(N15-3500,个税税率表,3,1)-VLOOKUP(N15-3500,个税税率表,4,1)) -> 32.826 | P15: =N15-O15 -> 4561.374
A16: 0013 | B16: 张瑞峰 | C16: 销售部 | D16: 业务员 | E16: =VLOOKUP(A16,工资调整,9,1) -> 3000 | F16: =请假记录!K16 -> 200 | G16: 100 | H16: =VLOOKUP(A16,加班记录汇总,2,1) -> 40 | I16: =VLOOKUP(A16,缺勤总扣款,10,1) -> 10 | J16: =SUM(E16:H16)-I16 -> 3330 | K16: =J16*8% -> 266.4 | L16: =J16*2% -> 66.6 | M16: =J16*12% -> 399.6 | N16: =J16-K16-L16-M16 -> 2597.4 | O16: =IF(N16-3500<=0,0,(N16-3500)*VLOOKUP(N16-3500,个税税率表,3,1)-VLOOKUP(N16-3500,个税税率表,4,1)) -> 0 | P16: =N16-O16 -> 2597.4

Sheet Sheet4
A1: 员工工资条
A2: 月份 | B2: 员工编号 | C2: 姓名 | D2: 所属部门 | E2: 职工类别 | F2: 基本工资 | G2: 奖金 | H2: 补贴 | I2: 加班费 | J2: 缺勤扣款 | K2: 应发工资 | L2: 养老保险 | M2: 医疗保险 | N2: 住房公积金 | O2: 应税工资 | P2: 所得税 | Q2: 实发工资
A3: =NOW() -> 43373.72 | B3: 0001 | C3: =VLOOKUP(B3,工资明细表!A1:P16,2,1) -> 王晓东 | D3: =VLOOKUP(C3,工资明细表!B1:Q16,2,1) -> 销售部 | E3: =VLOOKUP(D3,工资明细表!C1:R16,2,1) -> 业务员 | G3: =VLOOKUP(F4,工资明细表!E1:T16,2,1) -> #N/A | H3: =VLOOKUP(G3,工资明细表!F1:U16,2,1) -> #N/A | I3: =VLOOKUP(H3,工资明细表!G1:V16,2,1) -> #N/A | J3: =VLOOKUP(I3,工资明细表!H1:W16,2,1) -> #N/A | K3: =VLOOKUP(J3,工资明细表!I1:X16,2,1) -> #N/A | L3: =VLOOKUP(K3,工资明细表!J1:Y16,2,1) -> #N/A | M3: =VLOOKUP(L3,工资明细表!K1:Z16,2,1) -> #N/A | N3: =VLOOKUP(M3,工资明细表!L1:AA16,2,1) -> #N/A | O3: =VLOOKUP(N3,工资明细表!M1:AB16,2,1) -> #N/A | ... Q3: =VLOOKUP(P3,工资明细表!O1:AD16,2,1) -> #N/A
F4: =VLOOKUP(E3,工资明细表!D1:S16,2,1) -> 3000

Sheet 工资条
A1: 员工工资条
A2: 月份 | B2: 员工编号 | C2: 姓名 | D2: 所属部门 | E2: 职工类别 | F2: 基本工资 | G2: 奖金 | H2: 补贴 | I2: 加班费 | J2: 缺勤扣款 | K2: 应发工资 | L2: 养老保险 | M2: 医疗保险 | N2: 住房公积金 | O2: 应税工资 | P2: 所得税 | Q2: 实发工资
A3: =NOW() -> 43373.72 | B3: 0001 | C3: =VLOOKUP(B3,工资表,2,1) -> 王晓东 | D3: =VLOOKUP(B3,工资表,3,1) -> 财务部 | E3: =VLOOKUP(B3,工资表,4,1) -> 广告策划 | F3: =VLOOKUP(B3,工资表,5,1) -> 4000 | G3: =VLOOKUP(B3,工资表,6,1) -> 200 | H3: =VLOOKUP(B3,工资表,7,1) -> 100 | I3: =VLOOKUP(B3,工资表,8,1) -> 80 | J3: =VLOOKUP(B3,工资表,9,1) -> 67 | K3: =VLOOKUP(B3,工资表,10,1) -> 4313 | L3: =VLOOKUP(B3,工资表,11,1) -> 345.04 | M3: =VLOOKUP(B3,工资表,12,1) -> 86.26 | N3: =VLOOKUP(B3,工资表,13,1) -> 517.56 | O3: =VLOOKUP(B3,工资表,14,1) -> 3364.14 | P3: =VLOOKUP(B3,工资表,15,1) -> 0 | Q3: =VLOOKUP(B3,工资表,16,1) -> 3364.14
A4: 员工工资条
A5: 月份 | B5: 员工编号 | C5: 姓名 | D5: 所属部门 | E5: 职工类别 | F5: 基本工资 | G5: 奖金 | H5: 补贴 | I5: 加班费 | J5: 缺勤扣款 | K5: 应发工资 | L5: 养老保险 | M5: 医疗保险 | N5: 住房公积金 | O5: 应税工资 | P5: 所得税 | Q5: 实发工资
A6: =NOW() -> 43373.72 | B6: 0002 | C6: =VLOOKUP(B6,工资表,2,1) -> 王晓东 | D6: =VLOOKUP(B6,工资表,3,1) -> 财务部 | E6: =VLOOKUP(B6,工资表,4,1) -> 广告策划 | F6: =VLOOKUP(B6,工资表,5,1) -> 4000 | G6: =VLOOKUP(B6,工资表,6,1) -> 200 | H6: =VLOOKUP(B6,工资表,7,1) -> 100 | I6: =VLOOKUP(B6,工资表,8,1) -> 80 | J6: =VLOOKUP(B6,工资表,9,1) -> 67 | K6: =VLOOKUP(B6,工资表,10,1) -> 4313 | L6: =VLOOKUP(B6,工资表,11,1) -> 345.04 | M6: =VLOOKUP(B6,工资表,12,1) -> 86.26 | N6: =VLOOKUP(B6,工资表,13,1) -> 517.56 | O6: =VLOOKUP(B6,工资表,14,1) -> 3364.14 | P6: =VLOOKUP(B6,工资表,15,1) -> 0 | Q6: =VLOOKUP(B6,工资表,16,1) -> 3364.14
A7: 员工工资条
A8: 月份 | B8: 员工编号 | C8: 姓名 | D8: 所属部门 | E8: 职工类别 | F8: 基本工资 | G8: 奖金 | H8: 补贴 | I8: 加班费 | J8: 缺勤扣款 | K8: 应发工资 | L8: 养老保险 | M8: 医疗保险 | N8: 住房公积金 | O8: 应税工资 | P8: 所得税 | Q8: 实发工资
A9: =NOW() -> 43373.72 | B9: 0003 | C9: =VLOOKUP(B9,工资表,2,1) -> 李芳 | D9: =VLOOKUP(B9,工资表,3,1) -> 财务部 | E9: =VLOOKUP(B9,工资表,4,1) -> 部门经理 | F9: =VLOOKUP(B9,工资表,5,1) -> 5000 | G9: =VLOOKUP(B9,工资表,6,1) -> 200 | H9: =VLOOKUP(B9,工资表,7,1) -> 150 | I9: =VLOOKUP(B9,工资表,8,1) -> 80 | J9: =VLOOKUP(B9,工资表,9,1) -> 63 | K9: =VLOOKUP(B9,工资表,10,1) -> 5367 | L9: =VLOOKUP(B9,工资表,11,1) -> 429.36 | M9: =VLOOKUP(B9,工资表,12,1) -> 107.34 | N9: =VLOOKUP(B9,工资表,13,1) -> 644.04 | O9: =VLOOKUP(B9,工资表,14,1) -> 4186.26 | P9: =VLOOKUP(B9,工资表,15,1) -> 20.5878 | Q9: =VLOOKUP(B9,工资表,16,1) -> 4165.6722
A10: 员工工资条
A11: 月份 | B11: 员工编号 | C11: 姓名 | D11: 所属部门 | E11: 职工类别 | F11: 基本工资 | G11: 奖金 | H11: 补贴 | I11: 加班费 | J11: 缺勤扣款 | K11: 应发工资 | L11: 养老保险 | M11: 医疗保险 | N11: 住房公积金 | O11: 应税工资 | P11: 所得税 | Q11: 实发工资
A12: =NOW() -> 43373.72 | B12: 0004 | C12: =VLOOKUP(B12,工资表,2,1) -> 李芳 | D12: =VLOOKUP(B12,工资表,3,1) -> 财务部 | E12: =VLOOKUP(B12,工资表,4,1) -> 部门经理 | F12: =VLOOKUP(B12,工资表,5,1) -> 5000 | G12: =VLOOKUP(B12,工资表,6,1) -> 200 | H12: =VLOOKUP(B12,工资表,7,1) -> 150 | I12: =VLOOKUP(B12,工资表,8,1) -> 80 | J12: =VLOOKUP(B12,工资表,9,1) -> 63 | K12: =VLOOKUP(B12,工资表,10,1) -> 5367 | L12: =VLOOKUP(B12,工资表,11,1) -> 429.36 | M12: =VLOOKUP(B12,工资表,12,1) -> 107.34 | N12: =VLOOKUP(B12,工资表,13,1) -> 644.04 | O12: =VLOOKUP(B12,工资表,14,1) -> 4186.26 | P12: =VLOOKUP(B12,工资表,15,1) -> 20.5878 | Q12: =VLOOKUP(B12,工资表,16,1) -> 4165.6722
A13: 员工工资条
A14: 月份 | B14: 员工编号 | C14: 姓名 | D14: 所属部门 | E14: 职工类别 | F14: 基本工资 | G14: 奖金 | H14: 补贴 | I14: 加班费 | J14: 缺勤扣款 | K14: 应发工资 | L14: 养老保险 | M14: 医疗保险 | N14: 住房公积金 | O14: 应税工资 | P14: 所得税 | Q14: 实发工资
A15: =NOW() -> 43373.72 | B15: 0005 | C15: =VLOOKUP(B15,工资表,2,1) -> 李芳 | D15: =VLOOKUP(B15,工资表,3,1) -> 财务部 | E15: =VLOOKUP(B15,工资表,4,1) -> 部门经理 | F15: =VLOOKUP(B15,工资表,5,1) -> 5000 | G15: =VLOOKUP(B15,工资表,6,1) -> 200 | H15: =VLOOKUP(B15,工资表,7,1) -> 150 | I15: =VLOOKUP(B15,工资表,8,1) -> 80 | J15: =VLOOKUP(B15,工资表,9,1) -> 63 | K15: =VLOOKUP(B15,工资表,10,1) -> 5367 | L15: =VLOOKUP(B15,工资表,11,1) -> 429.36 | M15: =VLOOKUP(B15,工资表,12,1) -> 107.34 | N15: =VLOOKUP(B15,工资表,13,1) -> 644.04 | O15: =VLOOKUP(B15,工资表,14,1) -> 4186.26 | P15: =VLOOKUP(B15,工资表,15,1) -> 20.5878 | Q15: =VLOOKUP(B15,工资表,16,1) -> 4165.6722
A16: 员工工资条
A17: 月份 | B17: 员工编号 | C17: 姓名 | D17: 所属部门 | E17: 职工类别 | F17: 基本工资 | G17: 奖金 | H17: 补贴 | I17: 加班费 | J17: 缺勤扣款 | K17: 应发工资 | L17: 养老保险 | M17: 医疗保险 | N17: 住房公积金 | O17: 应税工资 | P17: 所得税 | Q17: 实发工资
A18: =NOW() -> 43373.72 | B18: 0006 | C18: =VLOOKUP(B18,工资表,2,1) -> 邹燕燕 | D18: =VLOOKUP(B18,工资表,3,1) -> 财务部 | E18: =VLOOKUP(B18,工资表,4,1) -> 会计 | F18: =VLOOKUP(B18,工资表,5,1) -> 3800 | G18: =VLOOKUP(B18,工资表,6,1) -> 200 | H18: =VLOOKUP(B18,工资表,7,1) -> 150 | I18: =VLOOKUP(B18,工资表,8,1) -> 80 | J18: =VLOOKUP(B18,工资表,9,1) -> 133 | K18: =VLOOKUP(B18,工资表,10,1) -> 4097 | L18: =VLOOKUP(B18,工资表,11,1) -> 327.76 | M18: =VLOOKUP(B18,工资表,12,1) -> 81.94 | N18: =VLOOKUP(B18,工资表,13,1) -> 491.64 | O18: =VLOOKUP(B18,工资表,14,1) -> 3195.66 | P18: =VLOOKUP(B18,工资表,15,1) -> 0 | Q18: =VLOOKUP(B18,工资表,16,1) -> 3195.66
A19: 员工工资条
A20: 月份 | B20: 员工编号 | C20: 姓名 | D20: 所属部门 | E20: 职工类别 | F20: 基本工资 | G20: 奖金 | H20: 补贴 | I20: 加班费 | J20: 缺勤扣款 | K20: 应发工资 | L20: 养老保险 | M20: 医疗保险 | N20: 住房公积金 | O20: 应税工资 | P20: 所得税 | Q20: 实发工资
A21: =NOW() -> 43373.72 | B21: 0007 | C21: =VLOOKUP(B21,工资表,2,1) -> 邹燕燕 | D21: =VLOOKUP(B21,工资表,3,1) -> 财务部 | E21: =VLOOKUP(B21,工资表,4,1) -> 会计 | F21: =VLOOKUP(B21,工资表,5,1) -> 3800 | G21: =VLOOKUP(B21,工资表,6,1) -> 200 | H21: =VLOOKUP(B21,工资表,7,1) -> 150 | I21: =VLOOKUP(B21,工资表,8,1) -> 80 | J21: =VLOOKUP(B21,工资表,9,1) -> 133 | K21: =VLOOKUP(B21,工资表,10,1) -> 4097 | L21: =VLOOKUP(B21,工资表,11,1) -> 327.76 | M21: =VLOOKUP(B21,工资表,12,1) -> 81.94 | N21: =VLOOKUP(B21,工资表,13,1) -> 491.64 | O21: =VLOOKUP(B21,工资表,14,1) -> 3195.66 | P21: =VLOOKUP(B21,工资表,15,1) -> 0 | Q21: =VLOOKUP(B21,工资表,16,1) -> 3195.66
A22: 员工工资条
A23: 月份 | B23: 员工编号 | C23: 姓名 | D23: 所属部门 | E23: 职工类别 | F23: 基本工资 | G23: 奖金 | H23: 补贴 | I23: 加班费 | J23: 缺勤扣款 | K23: 应发工资 | L23: 养老保险 | M23: 医疗保险 | N23: 住房公积金 | O23: 应税工资 | P23: 所得税 | Q23: 实发工资
A24: =NOW() -> 43373.72 | B24: 0008 | C24: =VLOOKUP(B24,工资表,2,1) -> 邹燕燕 | D24: =VLOOKUP(B24,工资表,3,1) -> 财务部 | E24: =VLOOKUP(B24,工资表,4,1) -> 会计 | F24: =VLOOKUP(B24,工资表,5,1) -> 3800 | G24: =VLOOKUP(B24,工资表,6,1) -> 200 | H24: =VLOOKUP(B24,工资表,7,1) -> 150 | I24: =VLOOKUP(B24,工资表,8,1) -> 80 | J24: =VLOOKUP(B24,工资表,9,1) -> 133 | K24: =VLOOKUP(B24,工资表,10,1) -> 4097 | L24: =VLOOKUP(B24,工资表,11,1) -> 327.76 | M24: =VLOOKUP(B24,工资表,12,1) -> 81.94 | N24: =VLOOKUP(B24,工资表,13,1) -> 491.64 | O24: =VLOOKUP(B24,工资表,14,1) -> 3195.66 | P24: =VLOOKUP(B24,工资表,15,1) -> 0 | Q24: =VLOOKUP(B24,工资表,16,1) -> 3195.66
A25: 员工工资条
A26: 月份 | B26: 员工编号 | C26: 姓名 | D26: 所属部门 | E26: 职工类别 | F26: 基本工资 | G26: 奖金 | H26: 补贴 | I26: 加班费 | J26: 缺勤扣款 | K26: 应发工资 | L26: 养老保险 | M26: 医疗保险 | N26: 住房公积金 | O26: 应税工资 | P26: 所得税 | Q26: 实发工资
A27: =NOW() -> 43373.72 | B27: 0009 | C27: =VLOOKUP(B27,工资表,2,1) -> 邱秀丽 | D27: =VLOOKUP(B27,工资表,3,1) -> 财务部 | E27: =VLOOKUP(B27,工资表,4,1) -> 预算员 | F27: =VLOOKUP(B27,工资表,5,1) -> 5000 | G27: =VLOOKUP(B27,工资表,6,1) -> 200 | H27: =VLOOKUP(B27,工资表,7,1) -> 120 | I27: =VLOOKUP(B27,工资表,8,1) -> 40 | J27: =VLOOKUP(B27,工资表,9,1) -> 0 | K27: =VLOOKUP(B27,工资表,10,1) -> 5360 | L27: =VLOOKUP(B27,工资表,11,1) -> 428.8 | M27: =VLOOKUP(B27,工资表,12,1) -> 107.2 | N27: =VLOOKUP(B27,工资表,13,1) -> 643.2 | O27: =VLOOKUP(B27,工资表,14,1) -> 4180.8 | P27: =VLOOKUP(B27,工资表,15,1) -> 20.424 | Q27: =VLOOKUP(B27,工资表,16,1) -> 4160.376
A28: 员工工资条
A29: 月份 | B29: 员工编号 | C29: 姓名 | D29: 所属部门 | E29: 职工类别 | F29: 基本工资 | G29: 奖金 | H29: 补贴 | I29: 加班费 | J29: 缺勤扣款 | K29: 应发工资 | L29: 养老保险 | M29: 医疗保险 | N29: 住房公积金 | O29: 应税工资 | P29: 所得税 | Q29: 实发工资
A30: =NOW() -> 43373.72 | B30: 0010 | C30: =VLOOKUP(B30,工资表,2,1) -> 马一鸣 | D30: =VLOOKUP(B30,工资表,3,1) -> 企划部 | E30: =VLOOKUP(B30,工资表,4,1) -> 广告策划 | F30: =VLOOKUP(B30,工资表,5,1) -> 4000 | G30: =VLOOKUP(B30,工资表,6,1) -> 200 | H30: =VLOOKUP(B30,工资表,7,1) -> 120 | I30: =VLOOKUP(B30,工资表,8,1) -> 40 | J30: =VLOOKUP(B30,工资表,9,1) -> 0 | K30: =VLOOKUP(B30,工资表,10,1) -> 4360 | L30: =VLOOKUP(B30,工资表,11,1) -> 348.8 | M30: =VLOOKUP(B30,工资表,12,1) -> 87.2 | N30: =VLOOKUP(B30,工资表,13,1) -> 523.2 | O30: =VLOOKUP(B30,工资表,14,1) -> 3400.8 | P30: =VLOOKUP(B30,工资表,15,1) -> 0 | Q30: =VLOOKUP(B30,工资表,16,1) -> 3400.8
A31: 员工工资条
A32: 月份 | B32: 员工编号 | C32: 姓名 | D32: 所属部门 | E32: 职工类别 | F32: 基本工资 | G32: 奖金 | H32: 补贴 | I32: 加班费 | J32: 缺勤扣款 | K32: 应发工资 | L32: 养老保险 | M32: 医疗保险 | N32: 住房公积金 | O32: 应税工资 | P32: 所得税 | Q32: 实发工资
A33: =NOW() -> 43373.72 | B33: 0011 | C33: =VLOOKUP(B33,工资表,2,1) -> 宋辉 | D33: =VLOOKUP(B33,工资表,3,1) -> 企划部 | E33: =VLOOKUP(B33,工资表,4,1) -> 部门经理 | F33: =VLOOKUP(B33,工资表,5,1) -> 3500 | G33: =VLOOKUP(B33,工资表,6,1) -> 200 | H33: =VLOOKUP(B33,工资表,7,1) -> 100 | I33: =VLOOKUP(B33,工资表,8,1) -> 80 | J33: =VLOOKUP(B33,工资表,9,1) -> 100 | K33: =VLOOKUP(B33,工资表,10,1) -> 3780 | L33: =VLOOKUP(B33,工资表,11,1) -> 302.4 | M33: =VLOOKUP(B33,工资表,12,1) -> 75.6 | N33: =VLOOKUP(B33,工资表,13,1) -> 453.6 | O33: =VLOOKUP(B33,工资表,14,1) -> 2948.4 | P33: =VLOOKUP(B33,工资表,15,1) -> 0 | Q33: =VLOOKUP(B33,工资表,16,1) -> 2948.4
A34: 员工工资条
A35: 月份 | B35: 员工编号 | C35: 姓名 | D35: 所属部门 | E35: 职工类别 | F35: 基本工资 | G35: 奖金 | H35: 补贴 | I35: 加班费 | J35: 缺勤扣款 | K35: 应发工资 | L35: 养老保险 | M35: 医疗保险 | N35: 住房公积金 | O35: 应税工资 | P35: 所得税 | Q35: 实发工资
A36: =NOW() -> 43373.72 | B36: 0012 | C36: =VLOOKUP(B36,工资表,2,1) -> 宋辉 | D36: =VLOOKUP(B36,工资表,3,1) -> 企划部 | E36: =VLOOKUP(B36,工资表,4,1) -> 部门经理 | F36: =VLOOKUP(B36,工资表,5,1) -> 3500 | G36: =VLOOKUP(B36,工资表,6,1) -> 200 | H36: =VLOOKUP(B36,工资表,7,1) -> 100 | I36: =VLOOKUP(B36,工资表,8,1) -> 80 | J36: =VLOOKUP(B36,工资表,9,1) -> 100 | K36: =VLOOKUP(B36,工资表,10,1) -> 3780 | L36: =VLOOKUP(B36,工资表,11,1) -> 302.4 | M36: =VLOOKUP(B36,工资表,12,1) -> 75.6 | N36: =VLOOKUP(B36,工资表,13,1) -> 453.6 | O36: =VLOOKUP(B36,工资表,14,1) -> 2948.4 | P36: =VLOOKUP(B36,工资表,15,1) -> 0 | Q36: =VLOOKUP(B36,工资表,16,1) -> 2948.4
A37: 员工工资条
A38: 月份 | B38: 员工编号 | C38: 姓名 | D38: 所属部门 | E38: 职工类别 | F38: 基本工资 | G38: 奖金 | H38: 补贴 | I38: 加班费 | J38: 缺勤扣款 | K38: 应发工资 | L38: 养老保险 | M38: 医疗保险 | N38: 住房公积金 | O38: 应税工资 | P38: 所得税 | Q38: 实发工资
A39: =NOW() -> 43373.72 | B39: 0013 | C39: =VLOOKUP(B39,工资表,2,1) -> 宋辉 | D39: =VLOOKUP(B39,工资表,3,1) -> 企划部 | E39: =VLOOKUP(B39,工资表,4,1) -> 部门经理 | F39: =VLOOKUP(B39,工资表,5,1) -> 3500 | G39: =VLOOKUP(B39,工资表,6,1) -> 200 | H39: =VLOOKUP(B39,工资表,7,1) -> 100 | I39: =VLOOKUP(B39,工资表,8,1) -> 80 | J39: =VLOOKUP(B39,工资表,9,1) -> 100 | K39: =VLOOKUP(B39,工资表,10,1) -> 3780 | L39: =VLOOKUP(B39,工资表,11,1) -> 302.4 | M39: =VLOOKUP(B39,工资表,12,1) -> 75.6 | N39: =VLOOKUP(B39,工资表,13,1) -> 453.6 | O39: =VLOOKUP(B39,工资表,14,1) -> 2948.4 | P39: =VLOOKUP(B39,工资表,15,1) -> 0 | Q39: =VLOOKUP(B39,工资表,16,1) -> 2948.4
A40: 员工工资条
...
