Workbook

Sheet 基础数据
A1: 表3-12 销售预算准备表
A2: 产品类型 | B2: 单价 | C2: 第一季度 | D2: 第二季度 | E2: 第三季度 | F2: 第四季度 | G2: 全年
A3: 家用电热水壶 | B3: 80 | C3: 50000 | D3: 60000 | E3: 70000 | F3: 80000 | G3: =SUM(C3:F3) -> 260000
A4: 便携电热水壶 | B4: 100 | C4: 100000 | D4: 110000 | E4: 120000 | F4: 130000 | G4: =SUM(C4:F4) -> 460000
A5: 收款政策： | B5: 当期收款 | C5: 0.7 | D5: 余款下季度收回 | E5: 0.3
A6: 期初家用电热水壶数量： | B6: 10000 | C6: 单位成本： | D6: 50
A7: 期初便携电热水壶数量： | B7: 15000 | C7: 单位成本： | D7: 70
A8: 每季度末存货量： | B8: 本季度销量 | C8: 0.2
A10: 表3-13 采购预算准备表
A11: 原材料 | B11: 不锈钢 | C11: PP | D11: ABS
A12: 期初原材料数量： | B12: 100000 | C12: 40000 | D12: 50000
A13: 每季度末材料量： | B13: 本季度使用量 | C13: 0.1
A14: 采购政策： | B14: 当期支付 | C14: 0.6 | D14: 余款下季度支付 | E14: 0.4
A15: 本年第四季度采购额为 | C15: 3000000
A17: 表3-14 直接材料和直接人工预算准备表
A18: 成本数据 | C18: 材料单耗 | F18: 工时单耗
C19: 不锈钢 | D19: PP | E19: ABS
A20: 家用电热水壶 | B20: 数量 | C20: 4 | D20: 3 | F20: 1
A21: 便携电热水壶 | B21: 数量 | C21: 4 | E21: 5 | F21: 1.5
B22: 单价 | C22: 5 | D22: 6 | E22: 7 | F22: 8
A24: 表3-15 制造费用预算准备表
A25: 制造费用：
A26: 变动制造费（工时） | B26: 间接人工 | C26: 间接材料 | D26: 水电维修费用 | E26: 合计
A27: 金额 | B27: 1 | C27: 1.5 | D27: 0.5 | E27: =SUM(B27:D27) -> 3
A28: 固定制造费（年） | B28: 折旧费 | C28: 工资费用 | D28: 其他杂项 | E28: 合计
A29: 金额 | B29: 800000 | C29: 600000 | D29: 400000 | E29: =SUM(B29:D29) -> 1800000
A31: 表3-16 期间费用预算准备表
A32: 变动销售费用： | B32: 销售额/销售收入 | C32: 0.05
A33: 固定销售费用： | B33: 广告费 | C33: 200000 | D33: 其他杂项 | E33: 160000
A34: 管理费用（年） | C34: 工资 | D34: 折旧费 | E34: 办公用品支出 | F34: 杂费 | G34: 合计
A35: 金额 | C35: 800000 | D35: 200000 | E35: 200000 | F35: 160000 | G35: =SUM(C35:F35) -> 1360000
A37: 表3-17 借贷情况表
A38: 借款利息率 | B38: 0.06 | C38: 存款额度 | D38: 1000000
A39: 短期借款 | B39: 2000000 | C39: 1月份支付 | D39: 所得税率 | E39: 0.25
A40: 一季度归还 | B40: 1000000 | C40: 二季度归还 | D40: 1000000
A41: 表3-18 资本支出预算准备表
A42: 固定资产支出 | B42: 5000000 | C42: 注释：格美公司2021年1月一次性投资5000000元新建一条生产线，货币形式支付,2022年1月完工
A44: 2020年末预计资产负债表
A45: 资产 | C45: 负债与权益
A46: 项目 | B46: 金额 | C46: 项目 | D46: 金额
...

Sheet 销售预算
A3: 项目 | B3: 产品 | D3: 第一季度 | E3: 第二季度 | F3: 第三季度 | G3: 第四季度 | H3: 全年合计
A4: 销售预算 | B4: 家用电热水壶 | C4: 销售量 | D4: =基础数据!C3 -> 50000 | E4: =基础数据!D3 -> 60000 | F4: =基础数据!E3 -> 70000 | G4: =基础数据!F3 -> 80000 | H4: =SUM(D4:G4) -> 260000
C5: 单价 | D5: =基础数据!$B$3 -> 80 | E5: =基础数据!$B$3 -> 80 | F5: =基础数据!$B$3 -> 80 | G5: =基础数据!$B$3 -> 80
C6: 销售额 | D6: =D4*D5 -> 4000000 | E6: =E4*E5 -> 4800000 | F6: =F4*F5 -> 5600000 | G6: =G4*G5 -> 6400000 | H6: =SUM(D6:G6) -> 20800000
B7: 便携电热水壶 | C7: 销售量 | D7: =基础数据!C4 -> 100000 | E7: =基础数据!D4 -> 110000 | F7: =基础数据!E4 -> 120000 | G7: =基础数据!F4 -> 130000 | H7: =SUM(D7:G7) -> 460000
C8: 单价 | D8: =基础数据!$B$4 -> 100 | E8: =基础数据!$B$4 -> 100 | F8: =基础数据!$B$4 -> 100 | G8: =基础数据!$B$4 -> 100
C9: 销售额 | D9: =D7*D8 -> 10000000 | E9: =E7*E8 -> 11000000 | F9: =F7*F8 -> 12000000 | G9: =G7*G8 -> 13000000 | H9: =SUM(D9:G9) -> 46000000
B10: 合计 | D10: =D6+D9 -> 14000000 | E10: =E6+E9 -> 15800000 | F10: =F6+F9 -> 17600000 | G10: =G6+G9 -> 19400000 | H10: =H6+H9 -> 66800000
A11: 现金收回 | B11: 当期收现 | D11: =D10*0.7 -> 9800000 | E11: =E10*0.7 -> 11060000 | F11: =F10*0.7 -> 12320000 | G11: =G10*0.7 -> 13580000
B12: 期末应收 | D12: =D10-D11 -> 4200000 | E12: =E10-E11 -> 4740000 | F12: =F10-F11 -> 5280000 | G12: =G10-G11 -> 5820000
B13: 收回上期 | D13: =基础数据!B48 -> 1500000 | E13: =D12 -> 4200000 | F13: =E12 -> 4740000 | G13: =F12 -> 5280000
B14: 收现合计 | D14: =D11+D13 -> 11300000 | E14: =E11+E13 -> 15260000 | F14: =F11+F13 -> 17060000 | G14: =G11+G13 -> 18860000 | H14: =SUM(D14:G14) -> 62480000

Sheet 生产预算
A2: 产品 | B2: 项目 | C2: 第一季度 | D2: 第二季度 | E2: 第三季度 | F2: 第四季度 | G2: 全年
A3: 家用电热水壶 | B3: 预计销售量 | C3: =销售预算!D4 -> 50000 | D3: =销售预算!E4 -> 60000 | E3: =销售预算!F4 -> 70000 | F3: =销售预算!G4 -> 80000 | G3: =SUM(C3:F3) -> 260000
B4: 加：期末存量 | C4: =C3*0.2 -> 10000 | D4: =D3*0.2 -> 12000 | E4: =E3*0.2 -> 14000 | F4: =F3*0.2 -> 16000 | G4: =F4 -> 16000
B5: 减：期初存量 | C5: =基础数据!B6 -> 10000 | D5: =C4 -> 10000 | E5: =D4 -> 12000 | F5: =E4 -> 14000 | G5: =C5 -> 10000
B6: 预计生产量 | C6: =C3+C4-C5 -> 50000 | D6: =D3+D4-D5 -> 62000 | E6: =E3+E4-E5 -> 72000 | F6: =F3+F4-F5 -> 82000 | G6: =SUM(C6:F6) -> 266000
A7: 便携电热水壶 | B7: 预计销售量 | C7: =销售预算!D7 -> 100000 | D7: =销售预算!E7 -> 110000 | E7: =销售预算!F7 -> 120000 | F7: =销售预算!G7 -> 130000 | G7: =SUM(C7:F7) -> 460000
B8: 加：期末存量 | C8: =C7*0.2 -> 20000 | D8: =D7*0.2 -> 22000 | E8: =E7*0.2 -> 24000 | F8: =F7*0.2 -> 26000 | G8: =F8 -> 26000
B9: 减：期初存量 | C9: =基础数据!B7 -> 15000 | D9: =C8 -> 20000 | E9: =D8 -> 22000 | F9: =E8 -> 24000 | G9: =C9 -> 15000
B10: 预计生产量 | C10: =C7+C8-C9 -> 105000 | D10: =D7+D8-D9 -> 112000 | E10: =E7+E8-E9 -> 122000 | F10: =F7+F8-F9 -> 132000 | G10: =SUM(C10:F10) -> 471000

Sheet 直接材料预算表
A2: 项目 | C2: 第一季度 | D2: 第二季度 | E2: 第三季度 | F2: 第四季度 | G2: 全年
A3: 家用电热水壶 | B3: 产量（件） | C3: =生产预算!C6 -> 50000 | D3: =生产预算!D6 -> 62000 | E3: =生产预算!E6 -> 72000 | F3: =生产预算!F6 -> 82000 | G3: =SUM(C3:F3) -> 266000
A4: 消耗材料（千克）： | B4: 不锈钢 | C4: =基础数据!$C$20*C3 -> 200000 | D4: =基础数据!$C$20*D3 -> 248000 | E4: =基础数据!$C$20*E3 -> 288000 | F4: =基础数据!$C$20*F3 -> 328000 | G4: =SUM(C4:F4) -> 1064000
B5: PP | C5: =基础数据!$D$20*C3 -> 150000 | D5: =基础数据!$D$20*D3 -> 186000 | E5: =基础数据!$D$20*E3 -> 216000 | F5: =基础数据!$D$20*F3 -> 246000 | G5: =SUM(C5:F5) -> 798000
A6: 便携电热水壶 | B6: 产量（件） | C6: =生产预算!C10 -> 105000 | D6: =生产预算!D10 -> 112000 | E6: =生产预算!E10 -> 122000 | F6: =生产预算!F10 -> 132000 | G6: =SUM(C6:F6) -> 471000
A7: 消耗材料（千克）： | B7: 不锈钢 | C7: =基础数据!$C$21*C6 -> 420000 | D7: =基础数据!$C$21*D6 -> 448000 | E7: =基础数据!$C$21*E6 -> 488000 | F7: =基础数据!$C$21*F6 -> 528000 | G7: =SUM(C7:F7) -> 1884000
B8: ABS | C8: =基础数据!$E$21*C6 -> 525000 | D8: =基础数据!$E$21*D6 -> 560000 | E8: =基础数据!$E$21*E6 -> 610000 | F8: =基础数据!$E$21*F6 -> 660000 | G8: =SUM(C8:F8) -> 2355000
A9: 消耗材料合计（千克） | B9: 不锈钢 | C9: =C4+C7 -> 620000 | D9: =D4+D7 -> 696000 | E9: =E4+E7 -> 776000 | F9: =F4+F7 -> 856000 | G9: =SUM(C9:F9) -> 2948000
B10: PP | C10: =C5 -> 150000 | D10: =D5 -> 186000 | E10: =E5 -> 216000 | F10: =F5 -> 246000 | G10: =SUM(C10:F10) -> 798000
B11: ABS | C11: =C8 -> 525000 | D11: =D8 -> 560000 | E11: =E8 -> 610000 | F11: =F8 -> 660000 | G11: =SUM(C11:F11) -> 2355000
A12: 计划期末存量（千克） | B12: 不锈钢 | C12: =C9*0.1 -> 62000 | D12: =D9*0.1 -> 69600 | E12: =E9*0.1 -> 77600 | F12: =F9*0.1 -> 85600 | G12: =F12 -> 85600
B13: PP | C13: =C10*0.1 -> 15000 | D13: =D10*0.1 -> 18600 | E13: =E10*0.1 -> 21600 | F13: =F10*0.1 -> 24600 | G13: =F13 -> 24600
B14: ABS | C14: =C11*0.1 -> 52500 | D14: =D11*0.1 -> 56000 | E14: =E11*0.1 -> 61000 | F14: =F11*0.1 -> 66000 | G14: =F14 -> 66000
A15: 减：期初存量（千克） | B15: 不锈钢 | C15: =基础数据!B12 -> 100000 | D15: =C12 -> 62000 | E15: =D12 -> 69600 | F15: =E12 -> 77600 | G15: =C15 -> 100000
B16: PP | C16: =基础数据!C12 -> 40000 | D16: =C13 -> 15000 | E16: =D13 -> 18600 | F16: =E13 -> 21600 | G16: =C16 -> 40000
B17: ABS | C17: =基础数据!D12 -> 50000 | D17: =C14 -> 52500 | E17: =D14 -> 56000 | F17: =E14 -> 61000 | G17: =C17 -> 50000
A18: 计划采购量（千克） | B18: 不锈钢 | C18: =C9+C12-C15 -> 582000 | D18: =D9+D12-D15 -> 703600 | E18: =E9+E12-E15 -> 784000 | F18: =F9+F12-F15 -> 864000 | G18: =SUM(C18:F18) -> 2933600
B19: PP | C19: =C10+C13-C16 -> 125000 | D19: =D10+D13-D16 -> 189600 | E19: =E10+E13-E16 -> 219000 | F19: =F10+F13-F16 -> 249000 | G19: =SUM(C19:F19) -> 782600
B20: ABS | C20: =C11+C14-C17 -> 527500 | D20: =D11+D14-D17 -> 563500 | E20: =E11+E14-E17 -> 615000 | F20: =F11+F14-F17 -> 665000 | G20: =SUM(C20:F20) -> 2371000
A21: 计划采购总额（元） | B21: 不锈钢 | C21: =基础数据!$C$22*C18 -> 2910000 | D21: =基础数据!$C$22*D18 -> 3518000 | E21: =基础数据!$C$22*E18 -> 3920000 | F21: =基础数据!$C$22*F18 -> 4320000 | G21: =SUM(C21:F21) -> 14668000
B22: PP | C22: =基础数据!$D$22*C19 -> 750000 | D22: =基础数据!$D$22*D19 -> 1137600 | E22: =基础数据!$D$22*E19 -> 1314000 | F22: =基础数据!$D$22*F19 -> 1494000 | G22: =SUM(C22:F22) -> 4695600
B23: ABS | C23: =基础数据!$E$22*C20 -> 3692500 | D23: =基础数据!$E$22*D20 -> 3944500 | E23: =基础数据!$E$22*E20 -> 4305000 | F23: =基础数据!$E$22*F20 -> 4655000 | G23: =SUM(C23:F23) -> 16597000
B24: 合计 | C24: =SUM(C21:C23) -> 7352500 | D24: =SUM(D21:D23) -> 8600100 | E24: =SUM(E21:E23) -> 9539000 | F24: =SUM(F21:F23) -> 10469000 | G24: =SUM(C24:F24) -> 35960600
A25: 当期支付当期款项 | C25: =C24*基础数据!$C$14 -> 4411500 | D25: =D24*基础数据!$C$14 -> 5160060 | E25: =E24*基础数据!$C$14 -> 5723400 | F25: =F24*基础数据!$C$14 -> 6281400 | G25: =C24+D24+E24+F25 -> 31773000
A26: 当期支付上期款项 | C26: =基础数据!D48 -> 1200000 | D26: =C24*0.4 -> 2941000 | E26: =D24*0.4 -> 3440040 | F26: =E24*0.4 -> 3815600 | G26: =C26 -> 1200000
A27: 当期支付款项合计 | C27: =C25+C26 -> 5611500 | D27: =D25+D26 -> 8101060 | E27: =E25+E26 -> 9163440 | F27: =F25+F26 -> 10097000 | G27: =G25+G26 -> 32973000
A28: 当期未支付款项 | C28: =C24*0.4 -> 2941000 | D28: =D24*0.4 -> 3440040 | E28: =E24*0.4 -> 3815600 | F28: =F24*0.4 -> 4187600 | G28: =F28 -> 4187600

Sheet 直接人工预算表
A2: 产品 | B2: 项目 | C2: 第一季度 | D2: 第二季度 | E2: 第三季度 | F2: 第四季度 | G2: 全年
A3: 家用电热水壶 | B3: 预计产量 | C3: =生产预算!C6 -> 50000 | D3: =生产预算!D6 -> 62000 | E3: =生产预算!E6 -> 72000 | F3: =生产预算!F6 -> 82000 | G3: =SUM(C3:F3) -> 266000
B4: 单位产品耗用直接人工工时 | C4: =基础数据!$F$20 -> 1 | D4: =基础数据!$F$20 -> 1 | E4: =基础数据!$F$20 -> 1 | F4: =基础数据!$F$20 -> 1
B5: 工时小计 | C5: =C3*C4 -> 50000 | D5: =D3*D4 -> 62000 | E5: =E3*E4 -> 72000 | F5: =F3*F4 -> 82000 | G5: =SUM(C5:F5) -> 266000
A6: 便携电热水壶 | B6: 预计产量 | C6: =生产预算!C10 -> 105000 | D6: =生产预算!D10 -> 112000 | E6: =生产预算!E10 -> 122000 | F6: =生产预算!F10 -> 132000 | G6: =SUM(C6:F6) -> 471000
B7: 单位产品耗用直接人工工时 | C7: =基础数据!$F$21 -> 1.5 | D7: =基础数据!$F$21 -> 1.5 | E7: =基础数据!$F$21 -> 1.5 | F7: =基础数据!$F$21 -> 1.5
B8: 工时小计 | C8: =C6*C7 -> 157500 | D8: =D6*D7 -> 168000 | E8: =E6*E7 -> 183000 | F8: =F6*F7 -> 198000 | G8: =SUM(C8:F8) -> 706500
B9: 工时合计 | C9: =C5+C8 -> 207500 | D9: =D5+D8 -> 230000 | E9: =E5+E8 -> 255000 | F9: =F5+F8 -> 280000 | G9: =SUM(C9:F9) -> 972500
B10: 每小时工资率 | C10: =基础数据!$F$22 -> 8 | D10: =基础数据!$F$22 -> 8 | E10: =基础数据!$F$22 -> 8 | F10: =基础数据!$F$22 -> 8
B11: 人工成本合计 | C11: =C9*C10 -> 1660000 | D11: =D9*D10 -> 1840000 | E11: =E9*E10 -> 2040000 | F11: =F9*F10 -> 2240000 | G11: =SUM(C11:F11) -> 7780000

Sheet 制造费用预算表
A2: 制造费用项目 | C2: 第一季度 | D2: 第二季度 | E2: 第三季度 | F2: 第四季度 | G2: 全年
A3: 变动制造费用 | B3: 直接人工工时 | C3: =直接人工预算表!C9 -> 207500 | D3: =直接人工预算表!D9 -> 230000 | E3: =直接人工预算表!E9 -> 255000 | F3: =直接人工预算表!F9 -> 280000 | G3: =SUM(C3:F3) -> 972500
B4: 间接人工 | C4: =基础数据!$B$27*C3 -> 207500 | D4: =基础数据!$B$27*D3 -> 230000 | E4: =基础数据!$B$27*E3 -> 255000 | F4: =基础数据!$B$27*F3 -> 280000 | G4: =SUM(C4:F4) -> 972500
B5: 间接材料 | C5: =基础数据!$C$27*C3 -> 311250 | D5: =基础数据!$C$27*D3 -> 345000 | E5: =基础数据!$C$27*E3 -> 382500 | F5: =基础数据!$C$27*F3 -> 420000 | G5: =SUM(C5:F5) -> 1458750
B6: 水电、维修费用 | C6: =基础数据!$D$27*C3 -> 103750 | D6: =基础数据!$D$27*D3 -> 115000 | E6: =基础数据!$D$27*E3 -> 127500 | F6: =基础数据!$D$27*F3 -> 140000 | G6: =SUM(C6:F6) -> 486250
B7: 合计 | C7: =SUM(C4:C6) -> 622500 | D7: =SUM(D4:D6) -> 690000 | E7: =SUM(E4:E6) -> 765000 | F7: =SUM(F4:F6) -> 840000 | G7: =SUM(C7:F7) -> 2917500
B8: 变动制造费用分配率 | C8: =C7/C3 -> 3 | D8: =D7/D3 -> 3 | E8: =E7/E3 -> 3 | F8: =F7/F3 -> 3
A9: 固定制造费用 | B9: 折旧费 | C9: =基础数据!$B$29/4 -> 200000 | D9: =基础数据!$B$29/4 -> 200000 | E9: =基础数据!$B$29/4 -> 200000 | F9: =基础数据!$B$29/4 -> 200000 | G9: =SUM(C9:F9) -> 800000
B10: 管理人员工资 | C10: =基础数据!$C$29/4 -> 150000 | D10: =基础数据!$C$29/4 -> 150000 | E10: =基础数据!$C$29/4 -> 150000 | F10: =基础数据!$C$29/4 -> 150000 | G10: =SUM(C10:F10) -> 600000
B11: 其他杂项 | C11: =基础数据!$D$29/4 -> 100000 | D11: =基础数据!$D$29/4 -> 100000 | E11: =基础数据!$D$29/4 -> 100000 | F11: =基础数据!$D$29/4 -> 100000 | G11: =SUM(C11:F11) -> 400000
B12: 合计 | C12: =SUM(C9:C11) -> 450000 | D12: =SUM(D9:D11) -> 450000 | E12: =SUM(E9:E11) -> 450000 | F12: =SUM(F9:F11) -> 450000 | G12: =SUM(C12:F12) -> 1800000
B13: 固定制造费用分配率 | C13: =C12/C3 -> 2.1686747 | D13: =D12/D3 -> 1.9565217 | E13: =E12/E3 -> 1.7647059 | F13: =F12/F3 -> 1.6071429
A14: 制造费用合计 | C14: =C7+C12 -> 1072500 | D14: =D7+D12 -> 1140000 | E14: =E7+E12 -> 1215000 | F14: =F7+F12 -> 1290000 | G14: =SUM(C14:F14) -> 4717500
A15: 现金支付 | B15: 变动制造费用 | C15: =C7 -> 622500 | D15: =D7 -> 690000 | E15: =E7 -> 765000 | F15: =F7 -> 840000 | G15: =SUM(C15:F15) -> 2917500
B16: 管理人员工资 | C16: =C10 -> 150000 | D16: =D10 -> 150000 | E16: =E10 -> 150000 | F16: =F10 -> 150000 | G16: =SUM(C16:F16) -> 600000
B17: 其他杂项 | C17: =C11 -> 100000 | D17: =D11 -> 100000 | E17: =E11 -> 100000 | F17: =F11 -> 100000 | G17: =SUM(C17:F17) -> 400000
B18: 现金支出合计 | C18: =SUM(C15:C17) -> 872500 | D18: =SUM(D15:D17) -> 940000 | E18: =SUM(E15:E17) -> 1015000 | F18: =SUM(F15:F17) -> 1090000 | G18: =SUM(C18:F18) -> 3917500

Sheet 生产成本预算表
A2: 产品 | B2: 项目 | C2: 第一季度 | D2: 第二季度 | E2: 第三季度 | F2: 第四季度 | G2: 全年
A3: 家用电热水壶 | B3: 计划产量 | C3: =生产预算!C6 -> 50000 | D3: =生产预算!D6 -> 62000 | E3: =生产预算!E6 -> 72000 | F3: =生产预算!F6 -> 82000 | G3: =SUM(C3:F3) -> 266000 | I3: 266000
B4: 直接材料 | C4: =直接材料预算表!C4*基础数据!$C$22+直接材料预算表!C5*基础数据!$D$22 -> 1900000 | D4: =直接材料预算表!D4*基础数据!$C$22+直接材料预算表!D5*基础数据!$D$22 -> 2356000 | E4: =直接材料预算表!E4*基础数据!$C$22+直接材料预算表!E5*基础数据!$D$22 -> 2736000 | F4: =直接材料预算表!F4*基础数据!$C$22+直接材料预算表!F5*基础数据!$D$22 -> 3116000 | G4: =SUM(C4:F4) -> 10108000 | I4: 10108000
B5: 直接人工 | C5: =直接人工预算表!C5*直接人工预算表!C10 -> 400000 | D5: =直接人工预算表!D5*直接人工预算表!D10 -> 496000 | E5: =直接人工预算表!E5*直接人工预算表!E10 -> 576000 | F5: =直接人工预算表!F5*直接人工预算表!F10 -> 656000 | G5: =SUM(C5:F5) -> 2128000 | I5: 2128000
B6: 变动制造费用 | C6: =直接人工预算表!C5*基础数据!$E$27 -> 150000 | D6: =直接人工预算表!D5*基础数据!$E$27 -> 186000 | E6: =直接人工预算表!E5*基础数据!$E$27 -> 216000 | F6: =直接人工预算表!F5*基础数据!$E$27 -> 246000 | G6: =SUM(C6:F6) -> 798000 | I6: 798000
B7: 变动生产成本 | C7: =C4+C5+C6 -> 2450000 | D7: =D4+D5+D6 -> 3038000 | E7: =E4+E5+E6 -> 3528000 | F7: =F4+F5+F6 -> 4018000 | G7: =SUM(C7:F7) -> 13034000 | I7: 13034000
B8: 单位变动生产成本 | C8: =C7/C3 -> 49 | D8: =D7/D3 -> 49 | E8: =E7/E3 -> 49 | F8: =F7/F3 -> 49 | I8: 49
B9: 单位产品分摊的固定制造费用 | C9: =制造费用预算表!C13*基础数据!$F$20 -> 2.1686747 | D9: =制造费用预算表!D13*基础数据!$F$20 -> 1.9565217 | E9: =制造费用预算表!E13*基础数据!$F$20 -> 1.7647059 | F9: =制造费用预算表!F13*基础数据!$F$20 -> 1.6071429
B10: 单位产品成本 | C10: =C8+C9 -> 51.168675 | D10: =D8+D9 -> 50.956522 | E10: =E8+E9 -> 50.764706 | F10: =F8+F9 -> 50.607143
B11: 分摊的固定制造费用 | C11: =C9*C3 -> 108433.73 | D11: =D9*D3 -> 121304.35 | E11: =E9*E3 -> 127058.82 | F11: =F9*F3 -> 131785.71
B12: 生产成本合计 | C12: =C7+C11 -> 2558433.7 | D12: =D7+D11 -> 3159304.3 | E12: =E7+E11 -> 3655058.8 | F12: =F7+F11 -> 4149785.7 | G12: =SUM(C12:F12) -> 13522583 | I12: 13522583
A13: 便携电热水壶 | B13: 计划产量 | C13: =生产预算!C10 -> 105000 | D13: =生产预算!D10 -> 112000 | E13: =生产预算!E10 -> 122000 | F13: =生产预算!F10 -> 132000 | G13: =SUM(C13:F13) -> 471000 | I13: 471000
B14: 直接材料 | C14: =直接材料预算表!C7*基础数据!$C$22+直接材料预算表!C8*基础数据!$E$22 -> 5775000 | D14: =直接材料预算表!D7*基础数据!$C$22+直接材料预算表!D8*基础数据!$E$22 -> 6160000 | E14: =直接材料预算表!E7*基础数据!$C$22+直接材料预算表!E8*基础数据!$E$22 -> 6710000 | F14: =直接材料预算表!F7*基础数据!$C$22+直接材料预算表!F8*基础数据!$E$22 -> 7260000 | G14: =SUM(C14:F14) -> 25905000 | I14: 25905000
B15: 直接人工 | C15: =直接人工预算表!C8*直接人工预算表!C10 -> 1260000 | D15: =直接人工预算表!D8*直接人工预算表!D10 -> 1344000 | E15: =直接人工预算表!E8*直接人工预算表!E10 -> 1464000 | F15: =直接人工预算表!F8*直接人工预算表!F10 -> 1584000 | G15: =SUM(C15:F15) -> 5652000 | I15: 5652000
B16: 变动制造费用 | C16: =直接人工预算表!C8*基础数据!$E$27 -> 472500 | D16: =直接人工预算表!D8*基础数据!$E$27 -> 504000 | E16: =直接人工预算表!E8*基础数据!$E$27 -> 549000 | F16: =直接人工预算表!F8*基础数据!$E$27 -> 594000 | G16: =SUM(C16:F16) -> 2119500 | I16: 2119500
B17: 变动生产成本 | C17: =C14+C15+C16 -> 7507500 | D17: =D14+D15+D16 -> 8008000 | E17: =E14+E15+E16 -> 8723000 | F17: =F14+F15+F16 -> 9438000 | G17: =SUM(C17:F17) -> 33676500 | I17: 33676500
B18: 单位变动生产成本 | C18: =C17/C13 -> 71.5 | D18: =D17/D13 -> 71.5 | E18: =E17/E13 -> 71.5 | F18: =F17/F13 -> 71.5 | I18: 71.5
B19: 单位产品分摊的固定制造费用 | C19: =制造费用预算表!C13*基础数据!$F$21 -> 3.253012 | D19: =制造费用预算表!D13*基础数据!$F$21 -> 2.9347826 | E19: =制造费用预算表!E13*基础数据!$F$21 -> 2.6470588 | F19: =制造费用预算表!F13*基础数据!$F$21 -> 2.4107143
B20: 单位产品成本 | C20: =C18+C19 -> 74.753012 | D20: =D18+D19 -> 74.434783 | E20: =E18+E19 -> 74.147059 | F20: =F18+F19 -> 73.910714
B21: 分摊的固定制造费用 | C21: =C19*C13 -> 341566.27 | D21: =D19*D13 -> 328695.65 | E21: =E19*E13 -> 322941.18 | F21: =F19*F13 -> 318214.29
B22: 生产成本合计 | C22: =C17+C21 -> 7849066.3 | D22: =D17+D21 -> 8336695.7 | E22: =E17+E21 -> 9045941.2 | F22: =F17+F21 -> 9756214.3 | G22: =SUM(C22:F22) -> 34987917 | I22: 34987917
A25: 验证过程： | B25: 总生产成本 | C25: =C12+C22 -> 10407500 | D25: =D12+D22 -> 11496000 | E25: =E12+E22 -> 12701000 | F25: =F12+F22 -> 13906000
B26: 固定制造费用 | C26: =制造费用预算表!C12 -> 450000 | D26: =制造费用预算表!D12 -> 450000 | E26: =制造费用预算表!E12 -> 450000 | F26: =制造费用预算表!F12 -> 450000
C27: =C25-C26 -> 9957500 | D27: =D25-D26 -> 11046000 | E27: =E25-E26 -> 12251000 | F27: =F25-F26 -> 13456000
C28: =C7+C17 -> 9957500 | D28: =D7+D17 -> 11046000 | E28: =E7+E17 -> 12251000 | F28: =F7+F17 -> 13456000

Sheet 销售成本预算表
A2: 产品 | B2: 项目 | C2: 第一季度 | D2: 第二季度 | E2: 第三季度 | F2: 第四季度 | G2: 全年
A3: 家用电热水壶 | B3: 销售数量 | C3: =销售预算!D4 -> 50000 | D3: =销售预算!E4 -> 60000 | E3: =销售预算!F4 -> 70000 | F3: =销售预算!G4 -> 80000 | G3: =SUM(C3:F3) -> 260000
B4: 期初存量 | C4: =生产预算!C5 -> 10000 | D4: =生产预算!D5 -> 10000 | E4: =生产预算!E5 -> 12000 | F4: =生产预算!F5 -> 14000 | G4: =C4 -> 10000
B5: 期末存量 | C5: =生产预算!C4 -> 10000 | D5: =生产预算!D4 -> 12000 | E5: =生产预算!E4 -> 14000 | F5: =生产预算!F4 -> 16000 | G5: =F5 -> 16000
B6: 期初存货成本 | C6: =C4*基础数据!D6 -> 500000 | D6: =D4*生产成本预算表!C10 -> 511686.75 | E6: =E4*生产成本预算表!D10 -> 611478.26 | F6: =F4*生产成本预算表!E10 -> 710705.88 | G6: =C6 -> 500000
B7: 本期生产成本 | C7: =生产成本预算表!C12 -> 2558433.7 | D7: =生产成本预算表!D12 -> 3159304.3 | E7: =生产成本预算表!E12 -> 3655058.8 | F7: =生产成本预算表!F12 -> 4149785.7 | G7: =SUM(C7:F7) -> 13522583
B8: 期末存货成本 | C8: =C5*生产成本预算表!C10 -> 511686.75 | D8: =D5*生产成本预算表!D10 -> 611478.26 | E8: =E5*生产成本预算表!E10 -> 710705.88 | F8: =F5*生产成本预算表!F10 -> 809714.29 | G8: =F8 -> 809714.29
B9: 本期销售成本 | C9: =C6+C7-C8 -> 2546747 | D9: =D6+D7-D8 -> 3059512.8 | E9: =E6+E7-E8 -> 3555831.2 | F9: =F6+F7-F8 -> 4050777.3 | G9: =SUM(C9:F9) -> 13212868
A10: 便携电热水壶 | B10: 销售数量 | C10: =生产预算!C7 -> 100000 | D10: =生产预算!D7 -> 110000 | E10: =生产预算!E7 -> 120000 | F10: =生产预算!F7 -> 130000 | G10: =SUM(C10:F10) -> 460000
B11: 期初存量 | C11: =生产预算!C9 -> 15000 | D11: =生产预算!D9 -> 20000 | E11: =生产预算!E9 -> 22000 | F11: =生产预算!F9 -> 24000 | G11: =C11 -> 15000
B12: 期末存量 | C12: =生产预算!C8 -> 20000 | D12: =生产预算!D8 -> 22000 | E12: =生产预算!E8 -> 24000 | F12: =生产预算!F8 -> 26000 | G12: =F12 -> 26000
B13: 期初存货成本 | C13: =C11*基础数据!D7 -> 1050000 | D13: =D11*生产成本预算表!C20 -> 1495060.2 | E13: =E11*生产成本预算表!D20 -> 1637565.2 | F13: =F11*生产成本预算表!E20 -> 1779529.4 | G13: =C13 -> 1050000
B14: 本期生产成本 | C14: =生产成本预算表!C22 -> 7849066.3 | D14: =生产成本预算表!D22 -> 8336695.7 | E14: =生产成本预算表!E22 -> 9045941.2 | F14: =生产成本预算表!F22 -> 9756214.3 | G14: =SUM(C14:F14) -> 34987917
B15: 期末存货成本 | C15: =C12*生产成本预算表!C20 -> 1495060.2 | D15: =D12*生产成本预算表!D20 -> 1637565.2 | E15: =E12*生产成本预算表!E20 -> 1779529.4 | F15: =F12*生产成本预算表!F20 -> 1921678.6 | G15: =F15 -> 1921678.6
B16: 本期销售成本 | C16: =C13+C14-C15 -> 7404006 | D16: =D13+D14-D15 -> 8194190.7 | E16: =E13+E14-E15 -> 8903977 | F16: =F13+F14-F15 -> 9614065.1 | G16: =SUM(C16:F16) -> 34116239
G21: =G13+G14-G15 -> 34116239

Sheet 管理费用预算
A2: 项目 | B2: 第一季度 | C2: 第二季度 | D2: 第三季度 | E2: 第四季度 | F2: 全年
A3: 管理人员工资 | B3: =基础数据!$C$35/4 -> 200000 | C3: =基础数据!$C$35/4 -> 200000 | D3: =基础数据!$C$35/4 -> 200000 | E3: =基础数据!$C$35/4 -> 200000 | F3: =SUM(B3:E3) -> 800000
A4: 折旧费 | B4: =基础数据!$D$35/4 -> 50000 | C4: =基础数据!$D$35/4 -> 50000 | D4: =基础数据!$D$35/4 -> 50000 | E4: =基础数据!$D$35/4 -> 50000 | F4: =SUM(B4:E4) -> 200000
A5: 办公用品支出 | B5: =基础数据!$E$35/4 -> 50000 | C5: =基础数据!$E$35/4 -> 50000 | D5: =基础数据!$E$35/4 -> 50000 | E5: =基础数据!$E$35/4 -> 50000 | F5: =SUM(B5:E5) -> 200000
A6: 其他杂费 | B6: =基础数据!$F$35/4 -> 40000 | C6: =基础数据!$F$35/4 -> 40000 | D6: =基础数据!$F$35/4 -> 40000 | E6: =基础数据!$F$35/4 -> 40000 | F6: =SUM(B6:E6) -> 160000
A7: 合计 | B7: =SUM(B3:B6) -> 340000 | C7: =SUM(C3:C6) -> 340000 | D7: =SUM(D3:D6) -> 340000 | E7: =SUM(E3:E6) -> 340000 | F7: =SUM(B7:E7) -> 1360000
A8: 现金支付 | B8: =B7-B4 -> 290000 | C8: =C7-C4 -> 290000 | D8: =D7-D4 -> 290000 | E8: =E7-E4 -> 290000 | F8: =SUM(B8:E8) -> 1160000

Sheet 销售费用预算
A2: 项目 | B2: 第一季度 | C2: 第二季度 | D2: 第三季度 | E2: 第四季度 | F2: 全年
A3: 变动销售费用：
A4: 销售人员工资 | B4: =销售预算!D10*基础数据!$C$32 -> 700000 | C4: =销售预算!E10*基础数据!$C$32 -> 790000 | D4: =销售预算!F10*基础数据!$C$32 -> 880000 | E4: =销售预算!G10*基础数据!$C$32 -> 970000 | F4: =SUM(B4:E4) -> 3340000
A5: 固定销售费用：
A6: 广告费 | B6: =基础数据!$C$33/4 -> 50000 | C6: =基础数据!$C$33/4 -> 50000 | D6: =基础数据!$C$33/4 -> 50000 | E6: =基础数据!$C$33/4 -> 50000 | F6: =SUM(B6:E6) -> 200000
A7: 其他杂项 | B7: =基础数据!$E$33/4 -> 40000 | C7: =基础数据!$E$33/4 -> 40000 | D7: =基础数据!$E$33/4 -> 40000 | E7: =基础数据!$E$33/4 -> 40000 | F7: =SUM(B7:E7) -> 160000
A8: 合计 | B8: =B4+B6+B7 -> 790000 | C8: =C4+C6+C7 -> 880000 | D8: =D4+D6+D7 -> 970000 | E8: =E4+E6+E7 -> 1060000 | F8: =SUM(B8:E8) -> 3700000
A9: 现金支付合计 | B9: =B8 -> 790000 | C9: =C8 -> 880000 | D9: =D8 -> 970000 | E9: =E8 -> 1060000 | F9: =SUM(B9:E9) -> 3700000

Sheet 资本支出预算表
A2: 项目 | B2: 第一季度 | C2: 第二季度 | D2: 第三季度 | E2: 第四季度 | F2: 全年
A3: 资本预算：
A4: 固定资产投资 | B4: =基础数据!B42 -> 5000000 | F4: =B4 -> 5000000
A5: 现金支出合计 | B5: =B4 -> 5000000 | F5: =B5 -> 5000000

Sheet 利润草算表
A2: 利润草算（不包括利息费用）
A3: 项目 | B3: 第一季度 | C3: 第二季度 | D3: 第三季度 | E3: 第四季度 | F3: 全年
A4: 销售收入 | B4: =销售预算!D10 -> 14000000 | C4: =销售预算!E10 -> 15800000 | D4: =销售预算!F10 -> 17600000 | E4: =销售预算!G10 -> 19400000 | F4: =SUM(B4:E4) -> 66800000
A5: 减：销售成本 | B5: =销售成本预算表!C9+销售成本预算表!C16 -> 9950753 | C5: =销售成本预算表!D9+销售成本预算表!D16 -> 11253704 | D5: =销售成本预算表!E9+销售成本预算表!E16 -> 12459808 | E5: =销售成本预算表!F9+销售成本预算表!F16 -> 13664842 | F5: =SUM(B5:E5) -> 47329107
A6: 销售费用 | B6: =销售费用预算!B8 -> 790000 | C6: =销售费用预算!C8 -> 880000 | D6: =销售费用预算!D8 -> 970000 | E6: =销售费用预算!E8 -> 1060000 | F6: =SUM(B6:E6) -> 3700000
A7: 管理费用 | B7: =管理费用预算!B7 -> 340000 | C7: =管理费用预算!C7 -> 340000 | D7: =管理费用预算!D7 -> 340000 | E7: =管理费用预算!E7 -> 340000 | F7: =SUM(B7:E7) -> 1360000
A8: 税前利润 | B8: =B4-B5-B6-B7 -> 2919247 | C8: =C4-C5-C6-C7 -> 3326296.5 | D8: =D4-D5-D6-D7 -> 3830191.8 | E8: =E4-E5-E6-E7 -> 4335157.6 | F8: =SUM(B8:E8) -> 14410893
A9: 所得税 | B9: =B8*0.25 -> 729811.75 | C9: =C8*0.25 -> 831574.12 | D9: =D8*0.25 -> 957547.95 | E9: =E8*0.25 -> 1083789.4 | F9: =SUM(B9:E9) -> 3602723.2

Sheet 现金收支草算表
A1: 现金收支草算（确定大致应借款数量、利息费用）
A2: 项目 | B2: 第一季度 | C2: 第二季度 | D2: 第三季度 | E2: 第四季度 | F2: 全年
A3: 期初余额 | B3: =基础数据!B47 -> 1000000 | C3: =B21 -> 1000000 | D3: =C21 -> 2394018.3 | E3: =D21 -> 5073894.1 | F3: =B3 -> 1000000
A4: 加：销售收现 | B4: =销售预算!D11 -> 9800000 | C4: =销售预算!E11 -> 11060000 | D4: =销售预算!F11 -> 12320000 | E4: =销售预算!G11 -> 13580000 | F4: =SUM(B4:E4) -> 46760000
A5: 应收账款收回 | B5: =销售预算!D13 -> 1500000 | C5: =销售预算!E13 -> 4200000 | D5: =销售预算!F13 -> 4740000 | E5: =销售预算!G13 -> 5280000 | F5: =SUM(B5:E5) -> 15720000
A6: 本期收入现金合计 | B6: =B3+B4+B5 -> 12300000 | C6: =C3+C4+C5 -> 16260000 | D6: =D3+D4+D5 -> 19454018 | E6: =E3+E4+E5 -> 23933894 | F6: =F3+F4+F5 -> 63480000
A7: 减：采购支出 | B7: =直接材料预算表!C27 -> 5611500 | C7: =直接材料预算表!D27 -> 8101060 | D7: =直接材料预算表!E27 -> 9163440 | E7: =直接材料预算表!F27 -> 10097000 | F7: =SUM(B7:E7) -> 32973000
A8: 支付工资 | B8: =直接人工预算表!C11 -> 1660000 | C8: =直接人工预算表!D11 -> 1840000 | D8: =直接人工预算表!E11 -> 2040000 | E8: =直接人工预算表!F11 -> 2240000 | F8: =SUM(B8:E8) -> 7780000
A9: 支付制造费用 | B9: =制造费用预算表!C18 -> 872500 | C9: =制造费用预算表!D18 -> 940000 | D9: =制造费用预算表!E18 -> 1015000 | E9: =制造费用预算表!F18 -> 1090000 | F9: =SUM(B9:E9) -> 3917500
A10: 支付销售费用 | B10: =销售费用预算!B9 -> 790000 | C10: =销售费用预算!C9 -> 880000 | D10: =销售费用预算!D9 -> 970000 | E10: =销售费用预算!E9 -> 1060000 | F10: =SUM(B10:E10) -> 3700000
A11: 支付管理费用 | B11: =管理费用预算!B8 -> 290000 | C11: =管理费用预算!C8 -> 290000 | D11: =管理费用预算!D8 -> 290000 | E11: =管理费用预算!E8 -> 290000 | F11: =SUM(B11:E11) -> 1160000
A12: 税费缴纳 | B12: =基础数据!D49 -> 720000 | C12: =利润草算表!B9 -> 729811.75 | D12: =利润草算表!C9 -> 831574.12 | E12: =利润草算表!D9 -> 957547.95 | F12: =SUM(B12:E12) -> 3238933.8
A13: 资本支出 | B13: =资本支出预算表!B5 -> 5000000 | F13: =SUM(B13:E13) -> 5000000
A14: 支出合计 | B14: =SUM(B7:B13) -> 14944000 | C14: =SUM(C7:C13) -> 12780872 | D14: =SUM(D7:D13) -> 14310014 | E14: =SUM(E7:E13) -> 15734548 | F14: =SUM(B14:E14) -> 57769434
A15: 收支净额 | B15: =B6-B14 -> -2644000 | C15: =C6-C14 -> 3479128.3 | D15: =D6-D14 -> 5144004.1 | E15: =E6-E14 -> 8199346.2 | F15: =F6-F14 -> 5710566.2
A16: 合理存款量 | B16: =基础数据!$D$38 -> 1000000 | C16: =基础数据!$D$38 -> 1000000 | D16: =基础数据!$D$38 -> 1000000 | E16: =基础数据!$D$38 -> 1000000 | F16: =E16 -> 1000000
A17: 多余（不足） | B17: =B15-B16 -> -3644000 | C17: =C15-C16 -> 2479128.3 | D17: =D15-D16 -> 4144004.1 | E17: =E15-E16 -> 7199346.2 | F17: =F15-F16 -> 4710566.2
A18: 归还本金 | B18: =基础数据!B40 -> 1000000 | C18: =基础数据!D40 -> 1000000 | E18: =B20 -> 4674000 | F18: =SUM(B18:E18) -> 6674000
A19: 偿付利息 | B19: =基础数据!B39*基础数据!B38/4 -> 30000 | C19: =(基础数据!B39-基础数据!B40)*基础数据!B38/4+B20*基础数据!B38/4 -> 85110 | D19: =B20*基础数据!B38/4 -> 70110 | E19: =D19 -> 70110 | F19: =SUM(B19:E19) -> 255330
A20: 新增借款 | B20: =B18+B19-B17 -> 4674000 | F20: =SUM(B20:E20) -> 4674000
A21: 期末余额 | B21: =B15+B20-B18-B19 -> 1000000 | C21: =C15+C20-C18-C19 -> 2394018.3 | D21: =D15+D20-D18-D19 -> 5073894.1 | E21: =E15+E20-E18-E19 -> 3455236.2 | F21: =F15+F20-F18-F19 -> 3455236.2
B22: =B17+B16+B20-B18-B19 -> 1000000 | C22: =C17+C16+C20-C18-C19 -> 2394018.3 | D22: =D17+D16+D20-D18-D19 -> 5073894.1 | E22: =E17+E16+E20-E18-E19 -> 3455236.2 | F22: =F17+F16+F20-F18-F19 -> 3455236.2
A23: 得到结果： | B23: 借款额度、利息费用。

Sheet 利润预算表
A1: 利润预算表
A2: 项目 | B2: 第一季度 | C2: 第二季度 | D2: 第三季度 | E2: 第四季度 | F2: 全年
A3: 销售收入 | B3: =利润草算表!B4 -> 14000000 | C3: =利润草算表!C4 -> 15800000 | D3: =利润草算表!D4 -> 17600000 | E3: =利润草算表!E4 -> 19400000 | F3: =利润草算表!F4 -> 66800000
A4: 减：销售成本 | B4: =利润草算表!B5 -> 9950753 | C4: =利润草算表!C5 -> 11253704 | D4: =利润草算表!D5 -> 12459808 | E4: =利润草算表!E5 -> 13664842 | F4: =利润草算表!F5 -> 47329107
A5: 销售费用 | B5: =利润草算表!B6 -> 790000 | C5: =利润草算表!C6 -> 880000 | D5: =利润草算表!D6 -> 970000 | E5: =利润草算表!E6 -> 1060000 | F5: =利润草算表!F6 -> 3700000
A6: 管理费用 | B6: =利润草算表!B7 -> 340000 | C6: =利润草算表!C7 -> 340000 | D6: =利润草算表!D7 -> 340000 | E6: =利润草算表!E7 -> 340000 | F6: =利润草算表!F7 -> 1360000
A7: 财务费用 | B7: =现金收支草算表!B19 -> 30000 | C7: =现金收支草算表!C19 -> 85110 | D7: =现金收支草算表!D19 -> 70110 | E7: =现金收支草算表!E19 -> 70110 | F7: =现金收支草算表!F19 -> 255330
A8: 税前利润 | B8: =B3-SUM(B4:B7) -> 2889247 | C8: =C3-SUM(C4:C7) -> 3241186.5 | D8: =D3-SUM(D4:D7) -> 3760081.8 | E8: =E3-SUM(E4:E7) -> 4265047.6 | F8: =F3-SUM(F4:F7) -> 14155563
A9: 所得税 | B9: =B8*0.25 -> 722311.75 | C9: =C8*0.25 -> 810296.62 | D9: =D8*0.25 -> 940020.45 | E9: =E8*0.25 -> 1066261.9 | F9: =F8*0.25 -> 3538890.7
A10: 净利润 | B10: =B8-B9 -> 2166935.2 | C10: =C8-C9 -> 2430889.9 | D10: =D8-D9 -> 2820061.4 | E10: =E8-E9 -> 3198785.7 | F10: =F8-F9 -> 10616672

Sheet 现金收支预算表
A1: 现金收支预算表
A2: 项目 | B2: 1季度 | C2: 2季度 | D2: 3季度 | E2: 4季度 | F2: 全年
A3: 期初余额 | B3: =现金收支草算表!B3 -> 1000000 | C3: =B21 -> 1000000 | D3: =C21 -> 2401518.3 | E3: =D21 -> 5102671.6 | F3: =B3 -> 1000000
A4: 加：销售收现 | B4: =现金收支草算表!B4 -> 9800000 | C4: =现金收支草算表!C4 -> 11060000 | D4: =现金收支草算表!D4 -> 12320000 | E4: =现金收支草算表!E4 -> 13580000 | F4: =现金收支草算表!F4 -> 46760000
A5: 应收账款收回 | B5: =现金收支草算表!B5 -> 1500000 | C5: =现金收支草算表!C5 -> 4200000 | D5: =现金收支草算表!D5 -> 4740000 | E5: =现金收支草算表!E5 -> 5280000 | F5: =现金收支草算表!F5 -> 15720000
A6: 本期收入现金合计 | B6: =B3+B4+B5 -> 12300000 | C6: =C3+C4+C5 -> 16260000 | D6: =D3+D4+D5 -> 19461518 | E6: =E3+E4+E5 -> 23962672 | F6: =F3+F4+F5 -> 63480000
A7: 减：采购支出 | B7: =现金收支草算表!B7 -> 5611500 | C7: =现金收支草算表!C7 -> 8101060 | D7: =现金收支草算表!D7 -> 9163440 | E7: =现金收支草算表!E7 -> 10097000 | F7: =现金收支草算表!F7 -> 32973000
A8: 支付工资 | B8: =现金收支草算表!B8 -> 1660000 | C8: =现金收支草算表!C8 -> 1840000 | D8: =现金收支草算表!D8 -> 2040000 | E8: =现金收支草算表!E8 -> 2240000 | F8: =现金收支草算表!F8 -> 7780000
A9: 支付制造费用 | B9: =现金收支草算表!B9 -> 872500 | C9: =现金收支草算表!C9 -> 940000 | D9: =现金收支草算表!D9 -> 1015000 | E9: =现金收支草算表!E9 -> 1090000 | F9: =现金收支草算表!F9 -> 3917500
A10: 支付销售费用 | B10: =现金收支草算表!B10 -> 790000 | C10: =现金收支草算表!C10 -> 880000 | D10: =现金收支草算表!D10 -> 970000 | E10: =现金收支草算表!E10 -> 1060000 | F10: =现金收支草算表!F10 -> 3700000
A11: 支付管理费用 | B11: =现金收支草算表!B11 -> 290000 | C11: =现金收支草算表!C11 -> 290000 | D11: =现金收支草算表!D11 -> 290000 | E11: =现金收支草算表!E11 -> 290000 | F11: =现金收支草算表!F11 -> 1160000
A12: 支付财务费用 | B12: =现金收支草算表!B19 -> 30000 | C12: =现金收支草算表!C19 -> 85110 | D12: =现金收支草算表!D19 -> 70110 | E12: =现金收支草算表!E19 -> 70110 | F12: =现金收支草算表!F19 -> 255330
A13: 税费缴纳 | B13: =现金收支草算表!B12 -> 720000 | C13: =利润预算表!B9 -> 722311.75 | D13: =利润预算表!C9 -> 810296.62 | E13: =利润预算表!D9 -> 940020.45 | F13: =SUM(B13:E13) -> 3192628.8
A14: 资本支出 | B14: =现金收支草算表!B13 -> 5000000 | C14: =现金收支草算表!C13 -> 0 | D14: =现金收支草算表!D13 -> 0 | E14: =现金收支草算表!E13 -> 0 | F14: =现金收支草算表!F13 -> 5000000
A15: 本期支出合计 | B15: =SUM(B7:B14) -> 14974000 | C15: =SUM(C7:C14) -> 12858482 | D15: =SUM(D7:D14) -> 14358847 | E15: =SUM(E7:E14) -> 15787130 | F15: =SUM(F7:F14) -> 57978459
A16: 收支净额 | B16: =B6-B15 -> -2674000 | C16: =C6-C15 -> 3401518.3 | D16: =D6-D15 -> 5102671.6 | E16: =E6-E15 -> 8175541.2 | F16: =F6-F15 -> 5501541.2
A17: 合理存款量 | B17: =现金收支草算表!B16 -> 1000000 | C17: =现金收支草算表!C16 -> 1000000 | D17: =现金收支草算表!D16 -> 1000000 | E17: =现金收支草算表!E16 -> 1000000 | F17: =现金收支草算表!F16 -> 1000000
A18: 多余（不足）* | B18: =B16-B17 -> -3674000 | C18: =C16-C17 -> 2401518.3 | D18: =D16-D17 -> 4102671.6 | E18: =E16-E17 -> 7175541.2 | F18: =F16-F17 -> 4501541.2
A19: 归还本金 | B19: =现金收支草算表!B18 -> 1000000 | C19: =现金收支草算表!C18 -> 1000000 | D19: =现金收支草算表!D18 -> 0 | E19: =现金收支草算表!E18 -> 4674000 | F19: =现金收支草算表!F18 -> 6674000
A20: 新增借款*** | B20: =现金收支草算表!B20 -> 4674000 | C20: =现金收支草算表!C20 -> 0 | D20: =现金收支草算表!D20 -> 0 | E20: =现金收支草算表!E20 -> 0 | F20: =现金收支草算表!F20 -> 4674000
A21: 期末余额 | B21: =B16+B20-B19 -> 1000000 | C21: =C16+C20-C19 -> 2401518.3 | D21: =D16+D20-D19 -> 5102671.6 | E21: =E16+E20-E19 -> 3501541.2 | F21: =F16+F20-F19 -> 3501541.2
E24: =SUM(B21:E21) -> 12005731

Sheet 资产负债预算表
A1: 预计资产负债表
A2: 项目 | B2: 期初 | C2: 一季度末 | D2: 二季度末 | E2: 三季度末 | F2: 四季度末
A3: 资产：
A4: 流动资产：
A5: 货币资金 | B5: =基础数据!B47 -> 1000000 | C5: =现金收支预算表!B21 -> 1000000 | D5: =现金收支预算表!C21 -> 2401518.3 | E5: =现金收支预算表!D21 -> 5102671.6 | F5: =现金收支预算表!E21 -> 3501541.2
A6: 应收账款 | B6: =基础数据!B48 -> 1500000 | C6: =销售预算!D12 -> 4200000 | D6: =销售预算!E12 -> 4740000 | E6: =销售预算!F12 -> 5280000 | F6: =销售预算!G12 -> 5820000
A7: 存货 | B7: =基础数据!B49 -> 2640000 | C7: =直接材料预算表!C12*基础数据!$C$22+直接材料预算表!C13*基础数据!$D$22+直接材料预算表!C14*基础数据!$E$22+销售成本预算表!C8+销售成本预算表!C15 -> 2774247 | D7: =直接材料预算表!D12*基础数据!$C$22+直接材料预算表!D13*基础数据!$D$22+直接材料预算表!D14*基础数据!$E$22+销售成本预算表!D8+销售成本预算表!D15 -> 3100643.5 | E7: =直接材料预算表!E12*基础数据!$C$22+直接材料预算表!E13*基础数据!$D$22+直接材料预算表!E14*基础数据!$E$22+销售成本预算表!E8+销售成本预算表!E15 -> 3434835.3 | F7: =直接材料预算表!F12*基础数据!$C$22+直接材料预算表!F13*基础数据!$D$22+直接材料预算表!F14*基础数据!$E$22+销售成本预算表!F8+销售成本预算表!F15 -> 3768992.9
A8: 流动资产合计 | B8: =基础数据!B50 -> 5140000 | C8: =SUM(C5:C7) -> 7974247 | D8: =SUM(D5:D7) -> 10242162 | E8: =SUM(E5:E7) -> 13817507 | F8: =SUM(F5:F7) -> 13090534
A9: 长期股权投资 | B9: =基础数据!$B$51 -> 2600000 | C9: =基础数据!$B$51 -> 2600000 | D9: =基础数据!$B$51 -> 2600000 | E9: =基础数据!$B$51 -> 2600000 | F9: =基础数据!$B$51 -> 2600000
A10: 固定资产 | B10: =基础数据!B52 -> 59080000 | C10: =B10-制造费用预算表!C9-管理费用预算!B4 -> 58830000 | D10: =C10-制造费用预算表!D9-管理费用预算!C4 -> 58580000 | E10: =D10-制造费用预算表!E9-管理费用预算!D4 -> 58330000 | F10: =E10-制造费用预算表!F9-管理费用预算!E4 -> 58080000
A11: 在建工程 | C11: =资本支出预算表!$B$4 -> 5000000 | D11: =资本支出预算表!$B$4 -> 5000000 | E11: =资本支出预算表!$B$4 -> 5000000 | F11: =资本支出预算表!$B$4 -> 5000000
A12: 其他资产 | B12: =基础数据!B53 -> 5000000 | C12: =$B$12 -> 5000000 | D12: =$B$12 -> 5000000 | E12: =$B$12 -> 5000000 | F12: =$B$12 -> 5000000
A13: 非流动资产合计 | B13: =基础数据!B54 -> 66680000 | C13: =SUM(C9:C12) -> 71430000 | D13: =SUM(D9:D12) -> 71180000 | E13: =SUM(E9:E12) -> 70930000 | F13: =SUM(F9:F12) -> 70680000
A14: 资产合计 | B14: =基础数据!B55 -> 71820000 | C14: =C8+C13 -> 79404247 | D14: =D8+D13 -> 81422162 | E14: =E8+E13 -> 84747507 | F14: =F8+F13 -> 83770534
A15: 负债与所有者权益
A16: 短期借款 | B16: =基础数据!D47 -> 2000000 | C16: =B16+现金收支预算表!B20-现金收支预算表!B19 -> 5674000 | D16: =C16+现金收支预算表!C20-现金收支预算表!C19 -> 4674000 | E16: =D16+现金收支预算表!D20-现金收支预算表!D19 -> 4674000 | F16: =E16+现金收支预算表!E20-现金收支预算表!E19 -> 0
A17: 应付账款 | B17: =基础数据!D48 -> 1200000 | C17: =直接材料预算表!C28 -> 2941000 | D17: =直接材料预算表!D28 -> 3440040 | E17: =直接材料预算表!E28 -> 3815600 | F17: =直接材料预算表!F28 -> 4187600
A18: 应交税费 | B18: =基础数据!D49 -> 720000 | C18: =利润预算表!B9 -> 722311.75 | D18: =利润预算表!C9 -> 810296.62 | E18: =利润预算表!D9 -> 940020.45 | F18: =利润预算表!E9 -> 1066261.9
A19: 流动负债合计 | B19: =基础数据!D50 -> 3920000 | C19: =SUM(C16:C18) -> 9337311.7 | D19: =SUM(D16:D18) -> 8924336.6 | E19: =SUM(E16:E18) -> 9429620.5 | F19: =SUM(F16:F18) -> 5253861.9
A20: 负债合计 | B20: =基础数据!D51 -> 3920000 | C20: =C19 -> 9337311.7 | D20: =D19 -> 8924336.6 | E20: =E19 -> 9429620.5 | F20: =F19 -> 5253861.9
A21: 实收资本 | B21: =基础数据!D52 -> 60000000 | C21: =$B$21 -> 60000000 | D21: =$B$21 -> 60000000 | E21: =$B$21 -> 60000000 | F21: =$B$21 -> 60000000
A22: 留存收益 | B22: =基础数据!D53 -> 7900000 | C22: =B22+利润预算表!B10 -> 10066935 | D22: =C22+利润预算表!C10 -> 12497825 | E22: =D22+利润预算表!D10 -> 15317886 | F22: =E22+利润预算表!E10 -> 18516672
A23: 所有者权益合计 | B23: =基础数据!D54 -> 67900000 | C23: =C21+C22 -> 70066935 | D23: =D21+D22 -> 72497825 | E23: =E21+E22 -> 75317886 | F23: =F21+F22 -> 78516672
A24: 负债与所有者权益合计 | B24: =基础数据!D55 -> 71820000 | C24: =C20+C23 -> 79404247 | D24: =D20+D23 -> 81422162 | E24: =E20+E23 -> 84747507 | F24: =F20+F23 -> 83770534
